BEGIN:VCALENDAR
VERSION:2.0
PRODID:-//Hill City Masonic Lodge #456, A.F. &amp; A.M. - ECPv6.15.20//NONSGML v1.0//EN
CALSCALE:GREGORIAN
METHOD:PUBLISH
X-ORIGINAL-URL:https://hillcitylodge.org
X-WR-CALDESC:Events for Hill City Masonic Lodge #456, A.F. &amp; A.M.
REFRESH-INTERVAL;VALUE=DURATION:PT1H
X-Robots-Tag:noindex
X-PUBLISHED-TTL:PT1H
BEGIN:VTIMEZONE
TZID:America/Chicago
BEGIN:DAYLIGHT
TZOFFSETFROM:-0600
TZOFFSETTO:-0500
TZNAME:CDT
DTSTART:20220313T080000
END:DAYLIGHT
BEGIN:STANDARD
TZOFFSETFROM:-0500
TZOFFSETTO:-0600
TZNAME:CST
DTSTART:20221106T070000
END:STANDARD
BEGIN:DAYLIGHT
TZOFFSETFROM:-0600
TZOFFSETTO:-0500
TZNAME:CDT
DTSTART:20230312T080000
END:DAYLIGHT
BEGIN:STANDARD
TZOFFSETFROM:-0500
TZOFFSETTO:-0600
TZNAME:CST
DTSTART:20231105T070000
END:STANDARD
BEGIN:DAYLIGHT
TZOFFSETFROM:-0600
TZOFFSETTO:-0500
TZNAME:CDT
DTSTART:20240310T080000
END:DAYLIGHT
BEGIN:STANDARD
TZOFFSETFROM:-0500
TZOFFSETTO:-0600
TZNAME:CST
DTSTART:20241103T070000
END:STANDARD
BEGIN:DAYLIGHT
TZOFFSETFROM:-0600
TZOFFSETTO:-0500
TZNAME:CDT
DTSTART:20250309T080000
END:DAYLIGHT
BEGIN:STANDARD
TZOFFSETFROM:-0500
TZOFFSETTO:-0600
TZNAME:CST
DTSTART:20251102T070000
END:STANDARD
BEGIN:DAYLIGHT
TZOFFSETFROM:-0600
TZOFFSETTO:-0500
TZNAME:CDT
DTSTART:20260308T080000
END:DAYLIGHT
BEGIN:STANDARD
TZOFFSETFROM:-0500
TZOFFSETTO:-0600
TZNAME:CST
DTSTART:20261101T070000
END:STANDARD
END:VTIMEZONE
BEGIN:VEVENT
DTSTART;TZID=America/Chicago:20250603T183000
DTEND;TZID=America/Chicago:20250603T210000
DTSTAMP:20260424T025223
CREATED:20250513T203443Z
LAST-MODIFIED:20250513T203443Z
UID:2204-1748975400-1748984400@hillcitylodge.org
SUMMARY:Stated Meeting
DESCRIPTION:Please join us for the Stated Meeting of Hill City Lodge\, the first Tuesday of each month. \n5:30 p.m. – Ritual/C-certificate practice\n6:30 p.m. – Dinner (family\, friends\, & public welcome)\n7:30 p.m. – Stated meeting
URL:https://hillcitylodge.org/event/stated-meeting-19/
LOCATION:Hill City Lodge\, 1711 Lavaca\, Austin\, TX\, 78701\, United States
END:VEVENT
BEGIN:VEVENT
DTSTART;TZID=America/Chicago:20230801T193000
DTEND;TZID=America/Chicago:20230801T203000
DTSTAMP:20260424T025223
CREATED:20230615T124027Z
LAST-MODIFIED:20230615T124300Z
UID:1831-1690918200-1690921800@hillcitylodge.org
SUMMARY:Stated Meeting
DESCRIPTION:Please join us for the Stated Meeting of Hill City Lodge\, the first Tuesday of each month. \n5:30 p.m. – Ritual/C-certificate practice\n6:30 p.m. – Dinner (family\, friends\, & public welcome)\n7:30 p.m. – Stated meeting
URL:https://hillcitylodge.org/event/stated-meeting-5-2/
LOCATION:Hill City Lodge\, 1711 Lavaca\, Austin\, TX\, 78701\, United States
END:VEVENT
BEGIN:VEVENT
DTSTART;TZID=America/Chicago:20250610T183000
DTEND;TZID=America/Chicago:20250610T210000
DTSTAMP:20260424T025223
CREATED:20250609T220616Z
LAST-MODIFIED:20250609T220616Z
UID:2218-1749580200-1749589200@hillcitylodge.org
SUMMARY:Fellowcraft practice
DESCRIPTION:5:30 p.m. – Ritual/C-certificate practice\n6:30 p.m. – Dinner (family\, friends\, & public welcome)\n7:30 p.m. – Called Meeting – Ritual Practice
URL:https://hillcitylodge.org/event/fellowcraft-practice-2/
LOCATION:Hill City Lodge\, 1711 Lavaca\, Austin\, TX\, 78701\, United States
END:VEVENT
BEGIN:VEVENT
DTSTART;TZID=America/Chicago:20250617T183000
DTEND;TZID=America/Chicago:20250617T210000
DTSTAMP:20260424T025223
CREATED:20250609T220752Z
LAST-MODIFIED:20250609T220752Z
UID:2224-1750185000-1750194000@hillcitylodge.org
SUMMARY:Lodge Memorial Service/Family Night
DESCRIPTION:6:30 p.m. – Dinner (family\, friends\, & public welcome)\n7:30 p.m. – Open Meeting – Lodge Memorial Service
URL:https://hillcitylodge.org/event/lodge-memorial-service-family-night-2/
LOCATION:Hill City Lodge\, 1711 Lavaca\, Austin\, TX\, 78701\, United States
END:VEVENT
BEGIN:VEVENT
DTSTART;TZID=America/Chicago:20250624T183000
DTEND;TZID=America/Chicago:20250624T210000
DTSTAMP:20260424T025223
CREATED:20250609T220845Z
LAST-MODIFIED:20250609T220845Z
UID:2227-1750789800-1750798800@hillcitylodge.org
SUMMARY:Officer Installation
DESCRIPTION:Join us as we install our new elected and appointed officers at Hill City Lodge.  Friends\, Family\, Public welcome. \n6:30 p.m. – Dinner (family\, friends\, & public welcome)\n7:30 p.m. – Open Meeting – Officer Installation
URL:https://hillcitylodge.org/event/officer-installation/
LOCATION:Hill City Lodge\, 1711 Lavaca\, Austin\, TX\, 78701\, United States
END:VEVENT
END:VCALENDAR