BEGIN:VCALENDAR
VERSION:2.0
PRODID:-//Hill City Masonic Lodge #456, A.F. &amp; A.M. - ECPv6.15.20//NONSGML v1.0//EN
CALSCALE:GREGORIAN
METHOD:PUBLISH
X-ORIGINAL-URL:https://hillcitylodge.org
X-WR-CALDESC:Events for Hill City Masonic Lodge #456, A.F. &amp; A.M.
REFRESH-INTERVAL;VALUE=DURATION:PT1H
X-Robots-Tag:noindex
X-PUBLISHED-TTL:PT1H
BEGIN:VTIMEZONE
TZID:America/Chicago
BEGIN:DAYLIGHT
TZOFFSETFROM:-0600
TZOFFSETTO:-0500
TZNAME:CDT
DTSTART:20220313T080000
END:DAYLIGHT
BEGIN:STANDARD
TZOFFSETFROM:-0500
TZOFFSETTO:-0600
TZNAME:CST
DTSTART:20221106T070000
END:STANDARD
BEGIN:DAYLIGHT
TZOFFSETFROM:-0600
TZOFFSETTO:-0500
TZNAME:CDT
DTSTART:20230312T080000
END:DAYLIGHT
BEGIN:STANDARD
TZOFFSETFROM:-0500
TZOFFSETTO:-0600
TZNAME:CST
DTSTART:20231105T070000
END:STANDARD
BEGIN:DAYLIGHT
TZOFFSETFROM:-0600
TZOFFSETTO:-0500
TZNAME:CDT
DTSTART:20240310T080000
END:DAYLIGHT
BEGIN:STANDARD
TZOFFSETFROM:-0500
TZOFFSETTO:-0600
TZNAME:CST
DTSTART:20241103T070000
END:STANDARD
BEGIN:DAYLIGHT
TZOFFSETFROM:-0600
TZOFFSETTO:-0500
TZNAME:CDT
DTSTART:20250309T080000
END:DAYLIGHT
BEGIN:STANDARD
TZOFFSETFROM:-0500
TZOFFSETTO:-0600
TZNAME:CST
DTSTART:20251102T070000
END:STANDARD
END:VTIMEZONE
BEGIN:VEVENT
DTSTART;TZID=America/Chicago:20230103T183000
DTEND;TZID=America/Chicago:20230103T193000
DTSTAMP:20260424T024641
CREATED:20221121T165735Z
LAST-MODIFIED:20221121T165818Z
UID:1698-1672770600-1672774200@hillcitylodge.org
SUMMARY:Dinner
DESCRIPTION:The  Stewards of Hill City Lodge #456 will be cooking a wonderful dinner. \nJoin us for dinner every Tuesday at 6:30 PM.
URL:https://hillcitylodge.org/event/dinner-3/
LOCATION:Hill City Lodge\, 1711 Lavaca\, Austin\, TX\, 78701\, United States
END:VEVENT
BEGIN:VEVENT
DTSTART;TZID=America/Chicago:20230801T193000
DTEND;TZID=America/Chicago:20230801T203000
DTSTAMP:20260424T024641
CREATED:20230615T124027Z
LAST-MODIFIED:20230615T124300Z
UID:1831-1690918200-1690921800@hillcitylodge.org
SUMMARY:Stated Meeting
DESCRIPTION:Please join us for the Stated Meeting of Hill City Lodge\, the first Tuesday of each month. \n5:30 p.m. – Ritual/C-certificate practice\n6:30 p.m. – Dinner (family\, friends\, & public welcome)\n7:30 p.m. – Stated meeting
URL:https://hillcitylodge.org/event/stated-meeting-5-2/
LOCATION:Hill City Lodge\, 1711 Lavaca\, Austin\, TX\, 78701\, United States
END:VEVENT
BEGIN:VEVENT
DTSTART;TZID=America/Chicago:20230103T183000
DTEND;TZID=America/Chicago:20230103T193000
DTSTAMP:20260424T024641
CREATED:20221121T165735Z
LAST-MODIFIED:20221121T165818Z
UID:1698-1672770600-1672774200@hillcitylodge.org
SUMMARY:Dinner
DESCRIPTION:The  Stewards of Hill City Lodge #456 will be cooking a wonderful dinner. \nJoin us for dinner every Tuesday at 6:30 PM.
URL:https://hillcitylodge.org/event/dinner-3/
LOCATION:Hill City Lodge\, 1711 Lavaca\, Austin\, TX\, 78701\, United States
END:VEVENT
BEGIN:VEVENT
DTSTART;TZID=America/Chicago:20240312T190000
DTEND;TZID=America/Chicago:20240312T203000
DTSTAMP:20260424T024641
CREATED:20240312T150000Z
LAST-MODIFIED:20240312T150000Z
UID:1994-1710270000-1710275400@hillcitylodge.org
SUMMARY:Master Mason Trial Lecture
DESCRIPTION:Join us for a called meeting: Master Mason Trial lecture. \n\n5:30 p.m. – Ritual/C-certificate practice\n6:30 p.m. – Dinner (family\, friends\, & public welcome)\n7:30 p.m. – Called Meeting – MM Trial Lecture
URL:https://hillcitylodge.org/event/master-mason-trial-lecture/
LOCATION:Hill City Lodge\, 1711 Lavaca\, Austin\, TX\, 78701\, United States
END:VEVENT
BEGIN:VEVENT
DTSTART;TZID=America/Chicago:20230103T183000
DTEND;TZID=America/Chicago:20230103T193000
DTSTAMP:20260424T024641
CREATED:20221121T165735Z
LAST-MODIFIED:20221121T165818Z
UID:1698-1672770600-1672774200@hillcitylodge.org
SUMMARY:Dinner
DESCRIPTION:The  Stewards of Hill City Lodge #456 will be cooking a wonderful dinner. \nJoin us for dinner every Tuesday at 6:30 PM.
URL:https://hillcitylodge.org/event/dinner-3/
LOCATION:Hill City Lodge\, 1711 Lavaca\, Austin\, TX\, 78701\, United States
END:VEVENT
BEGIN:VEVENT
DTSTART;TZID=America/Chicago:20240319T190000
DTEND;TZID=America/Chicago:20240319T200000
DTSTAMP:20260424T024641
CREATED:20240319T185148Z
LAST-MODIFIED:20240319T185148Z
UID:1997-1710874800-1710878400@hillcitylodge.org
SUMMARY:Esoteric work night
DESCRIPTION:Join the brethren for an Esoteric Work Night \n5:30 p.m. – Ritual/C-certificate practice\n6:30 p.m. – Dinner (family\, friends\, & public welcome)\n7:30 p.m. – Called Meeting – Esoteric Work Night
URL:https://hillcitylodge.org/event/esoteric-work-night-3/
LOCATION:Hill City Lodge\, 1711 Lavaca\, Austin\, TX\, 78701\, United States
END:VEVENT
BEGIN:VEVENT
DTSTART;TZID=America/Chicago:20230103T183000
DTEND;TZID=America/Chicago:20230103T193000
DTSTAMP:20260424T024641
CREATED:20221121T165735Z
LAST-MODIFIED:20221121T165818Z
UID:1698-1672770600-1672774200@hillcitylodge.org
SUMMARY:Dinner
DESCRIPTION:The  Stewards of Hill City Lodge #456 will be cooking a wonderful dinner. \nJoin us for dinner every Tuesday at 6:30 PM.
URL:https://hillcitylodge.org/event/dinner-3/
LOCATION:Hill City Lodge\, 1711 Lavaca\, Austin\, TX\, 78701\, United States
END:VEVENT
BEGIN:VEVENT
DTSTART;TZID=America/Chicago:20240326T190000
DTEND;TZID=America/Chicago:20240326T200000
DTSTAMP:20260424T024641
CREATED:20240325T233751Z
LAST-MODIFIED:20240325T233751Z
UID:2000-1711479600-1711483200@hillcitylodge.org
SUMMARY:Esoteric Work Night
DESCRIPTION:Join the brethren for an Esoteric Work Night \n5:30 p.m. – Ritual/C-certificate practice\n6:30 p.m. – Dinner (family\, friends\, & public welcome)\n7:30 p.m. – Called Meeting – Esoteric Work Night
URL:https://hillcitylodge.org/event/esoteric-work-night-4/
LOCATION:Hill City Lodge\, 1711 Lavaca\, Austin\, TX\, 78701\, United States
END:VEVENT
END:VCALENDAR