BEGIN:VCALENDAR
VERSION:2.0
PRODID:-//Hill City Masonic Lodge #456, A.F. &amp; A.M. - ECPv6.15.20//NONSGML v1.0//EN
CALSCALE:GREGORIAN
METHOD:PUBLISH
X-WR-CALNAME:Hill City Masonic Lodge #456, A.F. &amp; A.M.
X-ORIGINAL-URL:https://hillcitylodge.org
X-WR-CALDESC:Events for Hill City Masonic Lodge #456, A.F. &amp; A.M.
REFRESH-INTERVAL;VALUE=DURATION:PT1H
X-Robots-Tag:noindex
X-PUBLISHED-TTL:PT1H
BEGIN:VTIMEZONE
TZID:America/Chicago
BEGIN:DAYLIGHT
TZOFFSETFROM:-0600
TZOFFSETTO:-0500
TZNAME:CDT
DTSTART:20210314T080000
END:DAYLIGHT
BEGIN:STANDARD
TZOFFSETFROM:-0500
TZOFFSETTO:-0600
TZNAME:CST
DTSTART:20211107T070000
END:STANDARD
BEGIN:DAYLIGHT
TZOFFSETFROM:-0600
TZOFFSETTO:-0500
TZNAME:CDT
DTSTART:20220313T080000
END:DAYLIGHT
BEGIN:STANDARD
TZOFFSETFROM:-0500
TZOFFSETTO:-0600
TZNAME:CST
DTSTART:20221106T070000
END:STANDARD
BEGIN:DAYLIGHT
TZOFFSETFROM:-0600
TZOFFSETTO:-0500
TZNAME:CDT
DTSTART:20230312T080000
END:DAYLIGHT
BEGIN:STANDARD
TZOFFSETFROM:-0500
TZOFFSETTO:-0600
TZNAME:CST
DTSTART:20231105T070000
END:STANDARD
BEGIN:DAYLIGHT
TZOFFSETFROM:-0600
TZOFFSETTO:-0500
TZNAME:CDT
DTSTART:20240310T080000
END:DAYLIGHT
BEGIN:STANDARD
TZOFFSETFROM:-0500
TZOFFSETTO:-0600
TZNAME:CST
DTSTART:20241103T070000
END:STANDARD
END:VTIMEZONE
BEGIN:VEVENT
DTSTART;TZID=America/Chicago:20230103T183000
DTEND;TZID=America/Chicago:20230103T193000
DTSTAMP:20260423T173925
CREATED:20221121T165735Z
LAST-MODIFIED:20221121T165818Z
UID:1698-1672770600-1672774200@hillcitylodge.org
SUMMARY:Dinner
DESCRIPTION:The  Stewards of Hill City Lodge #456 will be cooking a wonderful dinner. \nJoin us for dinner every Tuesday at 6:30 PM.
URL:https://hillcitylodge.org/event/dinner-3/
LOCATION:Hill City Lodge\, 1711 Lavaca\, Austin\, TX\, 78701\, United States
END:VEVENT
BEGIN:VEVENT
DTSTART;TZID=America/Chicago:20221206T193000
DTEND;TZID=America/Chicago:20221206T203000
DTSTAMP:20260423T173926
CREATED:20221104T203538Z
LAST-MODIFIED:20221104T203645Z
UID:1653-1670355000-1670358600@hillcitylodge.org
SUMMARY:Stated Meeting
DESCRIPTION:Please join us for the Stated Meeting of Hill City Lodge\, the first Tuesday of each month. \n5:30 p.m. – Ritual/C-certificate practice\n6:30 p.m. – Dinner (family\, friends\, & public welcome)\n7:30 p.m. – Stated meeting
URL:https://hillcitylodge.org/event/stated-meeting-5/
LOCATION:Hill City Lodge\, 1711 Lavaca\, Austin\, TX\, 78701\, United States
END:VEVENT
BEGIN:VEVENT
DTSTART;TZID=America/Chicago:20230103T183000
DTEND;TZID=America/Chicago:20230103T193000
DTSTAMP:20260423T173926
CREATED:20221121T165735Z
LAST-MODIFIED:20221121T165818Z
UID:1698-1672770600-1672774200@hillcitylodge.org
SUMMARY:Dinner
DESCRIPTION:The  Stewards of Hill City Lodge #456 will be cooking a wonderful dinner. \nJoin us for dinner every Tuesday at 6:30 PM.
URL:https://hillcitylodge.org/event/dinner-3/
LOCATION:Hill City Lodge\, 1711 Lavaca\, Austin\, TX\, 78701\, United States
END:VEVENT
BEGIN:VEVENT
DTSTART;TZID=America/Chicago:20230613T190000
DTEND;TZID=America/Chicago:20230613T203000
DTSTAMP:20260423T173926
CREATED:20230613T184759Z
LAST-MODIFIED:20230613T184759Z
UID:1827-1686682800-1686688200@hillcitylodge.org
SUMMARY:Esoteric and floorwork practice
DESCRIPTION:Please join us for esoteric practice. \n5:30 p.m. – Ritual/C-certificate practice\n6:30 p.m. – Dinner (family\, friends\, & public welcome)\n7:00 p.m. – Called Meeting –  Esoteric work night
URL:https://hillcitylodge.org/event/esoteric-and-floorwork-practice/
LOCATION:Hill City Lodge\, 1711 Lavaca\, Austin\, TX\, 78701\, United States
END:VEVENT
BEGIN:VEVENT
DTSTART;TZID=America/Chicago:20230103T183000
DTEND;TZID=America/Chicago:20230103T193000
DTSTAMP:20260423T173926
CREATED:20221121T165735Z
LAST-MODIFIED:20221121T165818Z
UID:1698-1672770600-1672774200@hillcitylodge.org
SUMMARY:Dinner
DESCRIPTION:The  Stewards of Hill City Lodge #456 will be cooking a wonderful dinner. \nJoin us for dinner every Tuesday at 6:30 PM.
URL:https://hillcitylodge.org/event/dinner-3/
LOCATION:Hill City Lodge\, 1711 Lavaca\, Austin\, TX\, 78701\, United States
END:VEVENT
BEGIN:VEVENT
DTSTART;TZID=America/Chicago:20230620T190000
DTEND;TZID=America/Chicago:20230620T200000
DTSTAMP:20260423T173926
CREATED:20230620T204536Z
LAST-MODIFIED:20230620T204536Z
UID:1841-1687287600-1687291200@hillcitylodge.org
SUMMARY:Memorial Night
DESCRIPTION:The Lodge will have our Memorial Service to honor the fallen brethren and their families. This is an annual event hosted by the Lodge to honor their service to our fraternity. It is an Open Family event with a nice meal prior to the ceremony.
URL:https://hillcitylodge.org/event/memorial-night/
LOCATION:Hill City Lodge\, 1711 Lavaca\, Austin\, TX\, 78701\, United States
END:VEVENT
BEGIN:VEVENT
DTSTART;TZID=America/Chicago:20230103T183000
DTEND;TZID=America/Chicago:20230103T193000
DTSTAMP:20260423T173926
CREATED:20221121T165735Z
LAST-MODIFIED:20221121T165818Z
UID:1698-1672770600-1672774200@hillcitylodge.org
SUMMARY:Dinner
DESCRIPTION:The  Stewards of Hill City Lodge #456 will be cooking a wonderful dinner. \nJoin us for dinner every Tuesday at 6:30 PM.
URL:https://hillcitylodge.org/event/dinner-3/
LOCATION:Hill City Lodge\, 1711 Lavaca\, Austin\, TX\, 78701\, United States
END:VEVENT
BEGIN:VEVENT
DTSTART;TZID=America/Chicago:20230627T190000
DTEND;TZID=America/Chicago:20230627T203000
DTSTAMP:20260423T173926
CREATED:20230621T214943Z
LAST-MODIFIED:20230621T214943Z
UID:1844-1687892400-1687897800@hillcitylodge.org
SUMMARY:Entered Apprentice Degree
DESCRIPTION:Join us as we initiate a worthy candidate to the degree of Entered Apprentice. \n5:30 p.m. – Ritual/C-certificate practice\n6:30 p.m. – Dinner (family\, friends\, & public welcome)\n7:30 p.m. – Called Meeting – Entered Apprentice Degree
URL:https://hillcitylodge.org/event/entered-apprentice-degree-6/
LOCATION:Hill City Lodge\, 1711 Lavaca\, Austin\, TX\, 78701\, United States
END:VEVENT
END:VCALENDAR