BEGIN:VCALENDAR
VERSION:2.0
PRODID:-//Hill City Masonic Lodge #456, A.F. &amp; A.M. - ECPv6.15.20//NONSGML v1.0//EN
CALSCALE:GREGORIAN
METHOD:PUBLISH
X-ORIGINAL-URL:https://hillcitylodge.org
X-WR-CALDESC:Events for Hill City Masonic Lodge #456, A.F. &amp; A.M.
REFRESH-INTERVAL;VALUE=DURATION:PT1H
X-Robots-Tag:noindex
X-PUBLISHED-TTL:PT1H
BEGIN:VTIMEZONE
TZID:America/New_York
BEGIN:DAYLIGHT
TZOFFSETFROM:-0500
TZOFFSETTO:-0400
TZNAME:EDT
DTSTART:20210314T070000
END:DAYLIGHT
BEGIN:STANDARD
TZOFFSETFROM:-0400
TZOFFSETTO:-0500
TZNAME:EST
DTSTART:20211107T060000
END:STANDARD
BEGIN:DAYLIGHT
TZOFFSETFROM:-0500
TZOFFSETTO:-0400
TZNAME:EDT
DTSTART:20220313T070000
END:DAYLIGHT
BEGIN:STANDARD
TZOFFSETFROM:-0400
TZOFFSETTO:-0500
TZNAME:EST
DTSTART:20221106T060000
END:STANDARD
BEGIN:DAYLIGHT
TZOFFSETFROM:-0500
TZOFFSETTO:-0400
TZNAME:EDT
DTSTART:20230312T070000
END:DAYLIGHT
BEGIN:STANDARD
TZOFFSETFROM:-0400
TZOFFSETTO:-0500
TZNAME:EST
DTSTART:20231105T060000
END:STANDARD
END:VTIMEZONE
BEGIN:VEVENT
DTSTART;TZID=America/New_York:20220906T193000
DTEND;TZID=America/New_York:20220906T203000
DTSTAMP:20260424T023017
CREATED:20220809T195058Z
LAST-MODIFIED:20220809T200706Z
UID:1396-1662492600-1662496200@hillcitylodge.org
SUMMARY:Stated Meeting
DESCRIPTION:Please join us for our stated meeting the first Tuesday of every month.
URL:https://hillcitylodge.org/event/stated-meeting-2/
LOCATION:Hill City Lodge\, 1711 Lavaca\, Austin\, TX\, 78701\, United States
END:VEVENT
BEGIN:VEVENT
DTSTART;TZID=America/New_York:20220913T193000
DTEND;TZID=America/New_York:20220913T210000
DTSTAMP:20260424T023017
CREATED:20220902T182926Z
LAST-MODIFIED:20220902T182947Z
UID:1501-1663097400-1663102800@hillcitylodge.org
SUMMARY:Entered Apprentice Degree
DESCRIPTION:Please join us as we initiate a worthy candidate to the degree of Entered Apprentice. \n5:30 p.m. – Ritual/C-certificate practice\n6:30 p.m. – Dinner (family\, friends\, & public welcome)\n7:30 p.m. – Degree
URL:https://hillcitylodge.org/event/entered-apprentice-degree-2/
LOCATION:TX
END:VEVENT
BEGIN:VEVENT
DTSTART;TZID=America/New_York:20220920T190000
DTEND;TZID=America/New_York:20220920T210000
DTSTAMP:20260424T023017
CREATED:20220902T183059Z
LAST-MODIFIED:20220902T183127Z
UID:1504-1663700400-1663707600@hillcitylodge.org
SUMMARY:Called meeting - degree practice
DESCRIPTION:We will practice for the upcoming Fellowcraft degree. \n5:30 p.m. – Ritual/C-certificate practice\n6:30 p.m. – Dinner (family\, friends\, & public welcome)\n7:00 p.m. – Practice
URL:https://hillcitylodge.org/event/called-meeting-degree-practice/
LOCATION:TX
END:VEVENT
BEGIN:VEVENT
DTSTART;TZID=America/New_York:20220927T193000
DTEND;TZID=America/New_York:20220927T210000
DTSTAMP:20260424T023017
CREATED:20220902T182715Z
LAST-MODIFIED:20220902T182715Z
UID:1498-1664307000-1664312400@hillcitylodge.org
SUMMARY:Fellowcraft Degree
DESCRIPTION:Please join us as we pass a worthy brother to the degree of Fellowcraft. \n5:30 p.m. – Ritual/C-certificate practice\n6:30 p.m. – Dinner (family\, friends\, & public welcome)\n7:30 p.m. – Degree
URL:https://hillcitylodge.org/event/fellowcraft-degree/
LOCATION:TX
END:VEVENT
END:VCALENDAR