BEGIN:VCALENDAR
VERSION:2.0
PRODID:-//Hill City Masonic Lodge #456, A.F. &amp; A.M. - ECPv6.15.20//NONSGML v1.0//EN
CALSCALE:GREGORIAN
METHOD:PUBLISH
X-WR-CALNAME:Hill City Masonic Lodge #456, A.F. &amp; A.M.
X-ORIGINAL-URL:https://hillcitylodge.org
X-WR-CALDESC:Events for Hill City Masonic Lodge #456, A.F. &amp; A.M.
REFRESH-INTERVAL;VALUE=DURATION:PT1H
X-Robots-Tag:noindex
X-PUBLISHED-TTL:PT1H
BEGIN:VTIMEZONE
TZID:America/Chicago
BEGIN:DAYLIGHT
TZOFFSETFROM:-0600
TZOFFSETTO:-0500
TZNAME:CDT
DTSTART:20220313T080000
END:DAYLIGHT
BEGIN:STANDARD
TZOFFSETFROM:-0500
TZOFFSETTO:-0600
TZNAME:CST
DTSTART:20221106T070000
END:STANDARD
BEGIN:DAYLIGHT
TZOFFSETFROM:-0600
TZOFFSETTO:-0500
TZNAME:CDT
DTSTART:20230312T080000
END:DAYLIGHT
BEGIN:STANDARD
TZOFFSETFROM:-0500
TZOFFSETTO:-0600
TZNAME:CST
DTSTART:20231105T070000
END:STANDARD
BEGIN:DAYLIGHT
TZOFFSETFROM:-0600
TZOFFSETTO:-0500
TZNAME:CDT
DTSTART:20240310T080000
END:DAYLIGHT
BEGIN:STANDARD
TZOFFSETFROM:-0500
TZOFFSETTO:-0600
TZNAME:CST
DTSTART:20241103T070000
END:STANDARD
BEGIN:DAYLIGHT
TZOFFSETFROM:-0600
TZOFFSETTO:-0500
TZNAME:CDT
DTSTART:20250309T080000
END:DAYLIGHT
BEGIN:STANDARD
TZOFFSETFROM:-0500
TZOFFSETTO:-0600
TZNAME:CST
DTSTART:20251102T070000
END:STANDARD
END:VTIMEZONE
BEGIN:VEVENT
DTSTART;TZID=America/Chicago:20230103T183000
DTEND;TZID=America/Chicago:20230103T193000
DTSTAMP:20260423T192754
CREATED:20221121T165735Z
LAST-MODIFIED:20221121T165818Z
UID:1698-1672770600-1672774200@hillcitylodge.org
SUMMARY:Dinner
DESCRIPTION:The  Stewards of Hill City Lodge #456 will be cooking a wonderful dinner. \nJoin us for dinner every Tuesday at 6:30 PM.
URL:https://hillcitylodge.org/event/dinner-3/
LOCATION:Hill City Lodge\, 1711 Lavaca\, Austin\, TX\, 78701\, United States
END:VEVENT
BEGIN:VEVENT
DTSTART;TZID=America/Chicago:20240917T183000
DTEND;TZID=America/Chicago:20240917T210000
DTSTAMP:20260423T192754
CREATED:20240909T204917Z
LAST-MODIFIED:20240917T210647Z
UID:2090-1726597800-1726606800@hillcitylodge.org
SUMMARY:Entered Apprentice Degree
DESCRIPTION:Join us as we initiate a worthy candidate to the degree of Entered Apprentice. \n5:30 p.m. – Ritual/C-certificate practice\n6:30 p.m. – Dinner (family\, friends\, & public welcome)\n7:30 p.m. – Called Meeting – Entered Apprentice Degree
URL:https://hillcitylodge.org/event/fellowcraft-degree-7/
LOCATION:Hill City Lodge\, 1711 Lavaca\, Austin\, TX\, 78701\, United States
END:VEVENT
BEGIN:VEVENT
DTSTART;TZID=America/Chicago:20230103T183000
DTEND;TZID=America/Chicago:20230103T193000
DTSTAMP:20260423T192754
CREATED:20221121T165735Z
LAST-MODIFIED:20221121T165818Z
UID:1698-1672770600-1672774200@hillcitylodge.org
SUMMARY:Dinner
DESCRIPTION:The  Stewards of Hill City Lodge #456 will be cooking a wonderful dinner. \nJoin us for dinner every Tuesday at 6:30 PM.
URL:https://hillcitylodge.org/event/dinner-3/
LOCATION:Hill City Lodge\, 1711 Lavaca\, Austin\, TX\, 78701\, United States
END:VEVENT
BEGIN:VEVENT
DTSTART;TZID=America/Chicago:20240910T183000
DTEND;TZID=America/Chicago:20240910T203000
DTSTAMP:20260423T192754
CREATED:20240909T204821Z
LAST-MODIFIED:20240909T204821Z
UID:2087-1725993000-1726000200@hillcitylodge.org
SUMMARY:Games night
DESCRIPTION:Tuesday the 10th will be a “FUN Night” at the Lodge. The brethren will play cards\, Dominos\, board games\, etc. Just a good Ole Fun Night! The Lodge will also deliver Ice Cream to the fire station as a big Thank You for the service to the community! \n\n\n5:30 p.m. – Ritual/C-certificate practice\n6:30 p.m. – Dinner (family\, friends\, & public welcome)\n7:30 p.m. – Called Meeting – Fellowcraft Degree
URL:https://hillcitylodge.org/event/games-night/
LOCATION:Hill City Lodge\, 1711 Lavaca\, Austin\, TX\, 78701\, United States
END:VEVENT
BEGIN:VEVENT
DTSTART;TZID=America/Chicago:20230103T183000
DTEND;TZID=America/Chicago:20230103T193000
DTSTAMP:20260423T192754
CREATED:20221121T165735Z
LAST-MODIFIED:20221121T165818Z
UID:1698-1672770600-1672774200@hillcitylodge.org
SUMMARY:Dinner
DESCRIPTION:The  Stewards of Hill City Lodge #456 will be cooking a wonderful dinner. \nJoin us for dinner every Tuesday at 6:30 PM.
URL:https://hillcitylodge.org/event/dinner-3/
LOCATION:Hill City Lodge\, 1711 Lavaca\, Austin\, TX\, 78701\, United States
END:VEVENT
BEGIN:VEVENT
DTSTART;TZID=America/Chicago:20230801T193000
DTEND;TZID=America/Chicago:20230801T203000
DTSTAMP:20260423T192754
CREATED:20230615T124027Z
LAST-MODIFIED:20230615T124300Z
UID:1831-1690918200-1690921800@hillcitylodge.org
SUMMARY:Stated Meeting
DESCRIPTION:Please join us for the Stated Meeting of Hill City Lodge\, the first Tuesday of each month. \n5:30 p.m. – Ritual/C-certificate practice\n6:30 p.m. – Dinner (family\, friends\, & public welcome)\n7:30 p.m. – Stated meeting
URL:https://hillcitylodge.org/event/stated-meeting-5-2/
LOCATION:Hill City Lodge\, 1711 Lavaca\, Austin\, TX\, 78701\, United States
END:VEVENT
BEGIN:VEVENT
DTSTART;TZID=America/Chicago:20240903T183000
DTEND;TZID=America/Chicago:20240903T203000
DTSTAMP:20260423T192754
CREATED:20240813T210049Z
LAST-MODIFIED:20240813T210049Z
UID:2084-1725388200-1725395400@hillcitylodge.org
SUMMARY:Stated meeting
DESCRIPTION:Please join us for the Stated Meeting of Hill City Lodge\, the first Tuesday of each month. \n5:30 p.m. – Ritual/C-certificate practice\n6:30 p.m. – Dinner (family\, friends\, & public welcome)\n7:30 p.m. – Stated meeting
URL:https://hillcitylodge.org/event/stated-meeting-10/
LOCATION:Hill City Lodge\, 1711 Lavaca\, Austin\, TX\, 78701\, United States
END:VEVENT
BEGIN:VEVENT
DTSTART;TZID=America/Chicago:20240903T183000
DTEND;TZID=America/Chicago:20240903T203000
DTSTAMP:20260423T192754
CREATED:20240610T151102Z
LAST-MODIFIED:20240610T151102Z
UID:2051-1725388200-1725395400@hillcitylodge.org
SUMMARY:Stated Meeting
DESCRIPTION:Please join us for the Stated Meeting of Hill City Lodge\, the first Tuesday of each month. \n5:30 p.m. – Ritual/C-certificate practice\n6:30 p.m. – Dinner (family\, friends\, & public welcome)\n7:30 p.m. – Stated meeting
URL:https://hillcitylodge.org/event/stated-meeting-9/
LOCATION:Hill City Lodge\, 1711 Lavaca\, Austin\, TX\, 78701\, United States
END:VEVENT
BEGIN:VEVENT
DTSTART;TZID=America/Chicago:20230103T183000
DTEND;TZID=America/Chicago:20230103T193000
DTSTAMP:20260423T192754
CREATED:20221121T165735Z
LAST-MODIFIED:20221121T165818Z
UID:1698-1672770600-1672774200@hillcitylodge.org
SUMMARY:Dinner
DESCRIPTION:The  Stewards of Hill City Lodge #456 will be cooking a wonderful dinner. \nJoin us for dinner every Tuesday at 6:30 PM.
URL:https://hillcitylodge.org/event/dinner-3/
LOCATION:Hill City Lodge\, 1711 Lavaca\, Austin\, TX\, 78701\, United States
END:VEVENT
BEGIN:VEVENT
DTSTART;TZID=America/Chicago:20240827T183000
DTEND;TZID=America/Chicago:20240827T203000
DTSTAMP:20260423T192754
CREATED:20240813T205959Z
LAST-MODIFIED:20240813T205959Z
UID:2081-1724783400-1724790600@hillcitylodge.org
SUMMARY:Fellowcraft degree
DESCRIPTION:Join us as we pass a worthy brother to the degree of Fellowcraft \n5:30 p.m. – Ritual/C-certificate practice\n6:30 p.m. – Dinner (family\, friends\, & public welcome)\n7:30 p.m. – Called Meeting – Fellowcraft Degree
URL:https://hillcitylodge.org/event/fellowcraft-degree-6/
LOCATION:Hill City Lodge\, 1711 Lavaca\, Austin\, TX\, 78701\, United States
END:VEVENT
BEGIN:VEVENT
DTSTART;TZID=America/Chicago:20230103T183000
DTEND;TZID=America/Chicago:20230103T193000
DTSTAMP:20260423T192754
CREATED:20221121T165735Z
LAST-MODIFIED:20221121T165818Z
UID:1698-1672770600-1672774200@hillcitylodge.org
SUMMARY:Dinner
DESCRIPTION:The  Stewards of Hill City Lodge #456 will be cooking a wonderful dinner. \nJoin us for dinner every Tuesday at 6:30 PM.
URL:https://hillcitylodge.org/event/dinner-3/
LOCATION:Hill City Lodge\, 1711 Lavaca\, Austin\, TX\, 78701\, United States
END:VEVENT
BEGIN:VEVENT
DTSTART;TZID=America/Chicago:20240820T183000
DTEND;TZID=America/Chicago:20240820T203000
DTSTAMP:20260423T192754
CREATED:20240813T205909Z
LAST-MODIFIED:20240813T205909Z
UID:2079-1724178600-1724185800@hillcitylodge.org
SUMMARY:Fellowcraft degree
DESCRIPTION:Join us as we pass a worthy brother to the degree of Fellowcraft \n5:30 p.m. – Ritual/C-certificate practice\n6:30 p.m. – Dinner (family\, friends\, & public welcome)\n7:30 p.m. – Called Meeting – Fellowcraft Degree
URL:https://hillcitylodge.org/event/fellowcraft-degree-5/
LOCATION:Hill City Lodge\, 1711 Lavaca\, Austin\, TX\, 78701\, United States
END:VEVENT
BEGIN:VEVENT
DTSTART;TZID=America/Chicago:20230103T183000
DTEND;TZID=America/Chicago:20230103T193000
DTSTAMP:20260423T192754
CREATED:20221121T165735Z
LAST-MODIFIED:20221121T165818Z
UID:1698-1672770600-1672774200@hillcitylodge.org
SUMMARY:Dinner
DESCRIPTION:The  Stewards of Hill City Lodge #456 will be cooking a wonderful dinner. \nJoin us for dinner every Tuesday at 6:30 PM.
URL:https://hillcitylodge.org/event/dinner-3/
LOCATION:Hill City Lodge\, 1711 Lavaca\, Austin\, TX\, 78701\, United States
END:VEVENT
BEGIN:VEVENT
DTSTART;TZID=America/Chicago:20240813T183000
DTEND;TZID=America/Chicago:20240813T203000
DTSTAMP:20260423T192754
CREATED:20240813T205759Z
LAST-MODIFIED:20240813T205759Z
UID:2076-1723573800-1723581000@hillcitylodge.org
SUMMARY:Fellowcraft practice
DESCRIPTION:Join the brethren for a fellowcraft practice. \n5:30 p.m. – Ritual/C-certificate practice\n6:30 p.m. – Dinner (family\, friends\, & public welcome)\n7:30 p.m. – Called Meeting – work night
URL:https://hillcitylodge.org/event/fellowcraft-practice/
LOCATION:Hill City Lodge\, 1711 Lavaca\, Austin\, TX\, 78701\, United States
END:VEVENT
BEGIN:VEVENT
DTSTART;TZID=America/Chicago:20230103T183000
DTEND;TZID=America/Chicago:20230103T193000
DTSTAMP:20260423T192754
CREATED:20221121T165735Z
LAST-MODIFIED:20221121T165818Z
UID:1698-1672770600-1672774200@hillcitylodge.org
SUMMARY:Dinner
DESCRIPTION:The  Stewards of Hill City Lodge #456 will be cooking a wonderful dinner. \nJoin us for dinner every Tuesday at 6:30 PM.
URL:https://hillcitylodge.org/event/dinner-3/
LOCATION:Hill City Lodge\, 1711 Lavaca\, Austin\, TX\, 78701\, United States
END:VEVENT
BEGIN:VEVENT
DTSTART;TZID=America/Chicago:20230801T193000
DTEND;TZID=America/Chicago:20230801T203000
DTSTAMP:20260423T192754
CREATED:20230615T124027Z
LAST-MODIFIED:20230615T124300Z
UID:1831-1690918200-1690921800@hillcitylodge.org
SUMMARY:Stated Meeting
DESCRIPTION:Please join us for the Stated Meeting of Hill City Lodge\, the first Tuesday of each month. \n5:30 p.m. – Ritual/C-certificate practice\n6:30 p.m. – Dinner (family\, friends\, & public welcome)\n7:30 p.m. – Stated meeting
URL:https://hillcitylodge.org/event/stated-meeting-5-2/
LOCATION:Hill City Lodge\, 1711 Lavaca\, Austin\, TX\, 78701\, United States
END:VEVENT
BEGIN:VEVENT
DTSTART;TZID=America/Chicago:20240806T183000
DTEND;TZID=America/Chicago:20240806T203000
DTSTAMP:20260423T192754
CREATED:20240610T151036Z
LAST-MODIFIED:20240610T151036Z
UID:2048-1722969000-1722976200@hillcitylodge.org
SUMMARY:Stated Meeting
DESCRIPTION:Please join us for the Stated Meeting of Hill City Lodge\, the first Tuesday of each month. \n5:30 p.m. – Ritual/C-certificate practice\n6:30 p.m. – Dinner (family\, friends\, & public welcome)\n7:30 p.m. – Stated meeting
URL:https://hillcitylodge.org/event/stated-meeting-8/
LOCATION:Hill City Lodge\, 1711 Lavaca\, Austin\, TX\, 78701\, United States
END:VEVENT
BEGIN:VEVENT
DTSTART;TZID=America/Chicago:20230103T183000
DTEND;TZID=America/Chicago:20230103T193000
DTSTAMP:20260423T192754
CREATED:20221121T165735Z
LAST-MODIFIED:20221121T165818Z
UID:1698-1672770600-1672774200@hillcitylodge.org
SUMMARY:Dinner
DESCRIPTION:The  Stewards of Hill City Lodge #456 will be cooking a wonderful dinner. \nJoin us for dinner every Tuesday at 6:30 PM.
URL:https://hillcitylodge.org/event/dinner-3/
LOCATION:Hill City Lodge\, 1711 Lavaca\, Austin\, TX\, 78701\, United States
END:VEVENT
BEGIN:VEVENT
DTSTART;TZID=America/Chicago:20240730T183000
DTEND;TZID=America/Chicago:20240730T203000
DTSTAMP:20260423T192754
CREATED:20240715T160133Z
LAST-MODIFIED:20240715T160133Z
UID:2073-1722364200-1722371400@hillcitylodge.org
SUMMARY:Master Mason Degree
DESCRIPTION:Join the brethren as we raise a worthy brother to the sublime degree of Master Mason. \n5:30 p.m. – Ritual/C-certificate practice\n6:30 p.m. – Dinner (family\, friends\, & public welcome)\n7:30 p.m. – Called Meeting – Master Mason’s Degree
URL:https://hillcitylodge.org/event/master-mason-degree-7/
LOCATION:Hill City Lodge\, 1711 Lavaca\, Austin\, TX\, 78701\, United States
END:VEVENT
BEGIN:VEVENT
DTSTART;TZID=America/Chicago:20230103T183000
DTEND;TZID=America/Chicago:20230103T193000
DTSTAMP:20260423T192754
CREATED:20221121T165735Z
LAST-MODIFIED:20221121T165818Z
UID:1698-1672770600-1672774200@hillcitylodge.org
SUMMARY:Dinner
DESCRIPTION:The  Stewards of Hill City Lodge #456 will be cooking a wonderful dinner. \nJoin us for dinner every Tuesday at 6:30 PM.
URL:https://hillcitylodge.org/event/dinner-3/
LOCATION:Hill City Lodge\, 1711 Lavaca\, Austin\, TX\, 78701\, United States
END:VEVENT
BEGIN:VEVENT
DTSTART;TZID=America/Chicago:20240723T183000
DTEND;TZID=America/Chicago:20240723T210000
DTSTAMP:20260423T192754
CREATED:20240715T160028Z
LAST-MODIFIED:20240715T160206Z
UID:2070-1721759400-1721768400@hillcitylodge.org
SUMMARY:Entered Apprentice Degree
DESCRIPTION:Join us as we initiate a worthy candidate to the degree of Entered Apprentice. \n5:30 p.m. – Ritual/C-certificate practice\n6:30 p.m. – Dinner (family\, friends\, & public welcome)\n7:30 p.m. – Called Meeting – Entered Apprentice Degree
URL:https://hillcitylodge.org/event/entered-apprentice-degree-11/
LOCATION:Hill City Lodge\, 1711 Lavaca\, Austin\, TX\, 78701\, United States
END:VEVENT
BEGIN:VEVENT
DTSTART;TZID=America/Chicago:20230103T183000
DTEND;TZID=America/Chicago:20230103T193000
DTSTAMP:20260423T192754
CREATED:20221121T165735Z
LAST-MODIFIED:20221121T165818Z
UID:1698-1672770600-1672774200@hillcitylodge.org
SUMMARY:Dinner
DESCRIPTION:The  Stewards of Hill City Lodge #456 will be cooking a wonderful dinner. \nJoin us for dinner every Tuesday at 6:30 PM.
URL:https://hillcitylodge.org/event/dinner-3/
LOCATION:Hill City Lodge\, 1711 Lavaca\, Austin\, TX\, 78701\, United States
END:VEVENT
BEGIN:VEVENT
DTSTART;TZID=America/Chicago:20240716T183000
DTEND;TZID=America/Chicago:20240716T203000
DTSTAMP:20260423T192754
CREATED:20240707T132332Z
LAST-MODIFIED:20240715T155731Z
UID:2062-1721154600-1721161800@hillcitylodge.org
SUMMARY:Entered apprentice degree practice
DESCRIPTION:Join us as we practice esoteric work. \n5:30 p.m. – Ritual/C-certificate practice\n6:30 p.m. – Dinner (family\, friends\, & public welcome)\n7:30 p.m. – Called Meeting – Entered Apprentice Degree practice
URL:https://hillcitylodge.org/event/entered-apprentice-degree-10/
LOCATION:Hill City Lodge\, 1711 Lavaca\, Austin\, TX\, 78701\, United States
END:VEVENT
BEGIN:VEVENT
DTSTART;TZID=America/Chicago:20230103T183000
DTEND;TZID=America/Chicago:20230103T193000
DTSTAMP:20260423T192754
CREATED:20221121T165735Z
LAST-MODIFIED:20221121T165818Z
UID:1698-1672770600-1672774200@hillcitylodge.org
SUMMARY:Dinner
DESCRIPTION:The  Stewards of Hill City Lodge #456 will be cooking a wonderful dinner. \nJoin us for dinner every Tuesday at 6:30 PM.
URL:https://hillcitylodge.org/event/dinner-3/
LOCATION:Hill City Lodge\, 1711 Lavaca\, Austin\, TX\, 78701\, United States
END:VEVENT
BEGIN:VEVENT
DTSTART;TZID=America/Chicago:20240709T183000
DTEND;TZID=America/Chicago:20240709T203000
DTSTAMP:20260423T192754
CREATED:20240707T132140Z
LAST-MODIFIED:20240707T132140Z
UID:2059-1720549800-1720557000@hillcitylodge.org
SUMMARY:Esoteric work night
DESCRIPTION:Join the brethren for an esoteric work night. \n5:30 p.m. – Ritual/C-certificate practice\n6:30 p.m. – Dinner (family\, friends\, & public welcome)\n7:30 p.m. – Called Meeting – work night
URL:https://hillcitylodge.org/event/esoteric-work-night-7/
LOCATION:Hill City Lodge\, 1711 Lavaca\, Austin\, TX\, 78701\, United States
END:VEVENT
BEGIN:VEVENT
DTSTART;TZID=America/Chicago:20230103T183000
DTEND;TZID=America/Chicago:20230103T193000
DTSTAMP:20260423T192754
CREATED:20221121T165735Z
LAST-MODIFIED:20221121T165818Z
UID:1698-1672770600-1672774200@hillcitylodge.org
SUMMARY:Dinner
DESCRIPTION:The  Stewards of Hill City Lodge #456 will be cooking a wonderful dinner. \nJoin us for dinner every Tuesday at 6:30 PM.
URL:https://hillcitylodge.org/event/dinner-3/
LOCATION:Hill City Lodge\, 1711 Lavaca\, Austin\, TX\, 78701\, United States
END:VEVENT
BEGIN:VEVENT
DTSTART;TZID=America/Chicago:20230801T193000
DTEND;TZID=America/Chicago:20230801T203000
DTSTAMP:20260423T192754
CREATED:20230615T124027Z
LAST-MODIFIED:20230615T124300Z
UID:1831-1690918200-1690921800@hillcitylodge.org
SUMMARY:Stated Meeting
DESCRIPTION:Please join us for the Stated Meeting of Hill City Lodge\, the first Tuesday of each month. \n5:30 p.m. – Ritual/C-certificate practice\n6:30 p.m. – Dinner (family\, friends\, & public welcome)\n7:30 p.m. – Stated meeting
URL:https://hillcitylodge.org/event/stated-meeting-5-2/
LOCATION:Hill City Lodge\, 1711 Lavaca\, Austin\, TX\, 78701\, United States
END:VEVENT
BEGIN:VEVENT
DTSTART;TZID=America/Chicago:20240702T183000
DTEND;TZID=America/Chicago:20240702T210000
DTSTAMP:20260423T192754
CREATED:20240610T151004Z
LAST-MODIFIED:20240610T151004Z
UID:2045-1719945000-1719954000@hillcitylodge.org
SUMMARY:Stated Meeting
DESCRIPTION:Please join us for the Stated Meeting of Hill City Lodge\, the first Tuesday of each month. \n5:30 p.m. – Ritual/C-certificate practice\n6:30 p.m. – Dinner (family\, friends\, & public welcome)\n7:30 p.m. – Stated meeting
URL:https://hillcitylodge.org/event/stated-meeting-7/
LOCATION:Hill City Lodge\, 1711 Lavaca\, Austin\, TX\, 78701\, United States
END:VEVENT
BEGIN:VEVENT
DTSTART;TZID=America/Chicago:20230103T183000
DTEND;TZID=America/Chicago:20230103T193000
DTSTAMP:20260423T192754
CREATED:20221121T165735Z
LAST-MODIFIED:20221121T165818Z
UID:1698-1672770600-1672774200@hillcitylodge.org
SUMMARY:Dinner
DESCRIPTION:The  Stewards of Hill City Lodge #456 will be cooking a wonderful dinner. \nJoin us for dinner every Tuesday at 6:30 PM.
URL:https://hillcitylodge.org/event/dinner-3/
LOCATION:Hill City Lodge\, 1711 Lavaca\, Austin\, TX\, 78701\, United States
END:VEVENT
BEGIN:VEVENT
DTSTART;TZID=America/Chicago:20240625T183000
DTEND;TZID=America/Chicago:20240625T203000
DTSTAMP:20260423T192754
CREATED:20240506T132341Z
LAST-MODIFIED:20240610T150908Z
UID:2028-1719340200-1719347400@hillcitylodge.org
SUMMARY:Officer Installation and Family Night
DESCRIPTION:Join us as we install our new elected and appointed officers at Hill City Lodge.  Friends\, Family\, Public welcome. \n6:30 p.m. – Dinner (family\, friends\, & public welcome)\n7:30 p.m. – Open Meeting – Officer Installation
URL:https://hillcitylodge.org/event/officer-installation-and-family-night/
LOCATION:Hill City Lodge\, 1711 Lavaca\, Austin\, TX\, 78701\, United States
END:VEVENT
END:VCALENDAR