BEGIN:VCALENDAR
VERSION:2.0
PRODID:-//Hill City Masonic Lodge #456, A.F. &amp; A.M. - ECPv6.15.20//NONSGML v1.0//EN
CALSCALE:GREGORIAN
METHOD:PUBLISH
X-WR-CALNAME:Hill City Masonic Lodge #456, A.F. &amp; A.M.
X-ORIGINAL-URL:https://hillcitylodge.org
X-WR-CALDESC:Events for Hill City Masonic Lodge #456, A.F. &amp; A.M.
REFRESH-INTERVAL;VALUE=DURATION:PT1H
X-Robots-Tag:noindex
X-PUBLISHED-TTL:PT1H
BEGIN:VTIMEZONE
TZID:America/Chicago
BEGIN:DAYLIGHT
TZOFFSETFROM:-0600
TZOFFSETTO:-0500
TZNAME:CDT
DTSTART:20220313T080000
END:DAYLIGHT
BEGIN:STANDARD
TZOFFSETFROM:-0500
TZOFFSETTO:-0600
TZNAME:CST
DTSTART:20221106T070000
END:STANDARD
BEGIN:DAYLIGHT
TZOFFSETFROM:-0600
TZOFFSETTO:-0500
TZNAME:CDT
DTSTART:20230312T080000
END:DAYLIGHT
BEGIN:STANDARD
TZOFFSETFROM:-0500
TZOFFSETTO:-0600
TZNAME:CST
DTSTART:20231105T070000
END:STANDARD
BEGIN:DAYLIGHT
TZOFFSETFROM:-0600
TZOFFSETTO:-0500
TZNAME:CDT
DTSTART:20240310T080000
END:DAYLIGHT
BEGIN:STANDARD
TZOFFSETFROM:-0500
TZOFFSETTO:-0600
TZNAME:CST
DTSTART:20241103T070000
END:STANDARD
BEGIN:DAYLIGHT
TZOFFSETFROM:-0600
TZOFFSETTO:-0500
TZNAME:CDT
DTSTART:20250309T080000
END:DAYLIGHT
BEGIN:STANDARD
TZOFFSETFROM:-0500
TZOFFSETTO:-0600
TZNAME:CST
DTSTART:20251102T070000
END:STANDARD
END:VTIMEZONE
BEGIN:VEVENT
DTSTART;TZID=America/Chicago:20240227T193000
DTEND;TZID=America/Chicago:20240227T210000
DTSTAMP:20260423T190549
CREATED:20240214T191834Z
LAST-MODIFIED:20240214T191834Z
UID:1982-1709062200-1709067600@hillcitylodge.org
SUMMARY:Fellowcraft Degree
DESCRIPTION:Join us as we pass a worthy brother to the degree of Fellowcraft \n5:30 p.m. – Ritual/C-certificate practice\n6:30 p.m. – Dinner (family\, friends\, & public welcome)\n7:30 p.m. – Called Meeting – Fellowcraft Degree
URL:https://hillcitylodge.org/event/fellowcraft-degree-4/
LOCATION:Hill City Lodge\, 1711 Lavaca\, Austin\, TX\, 78701\, United States
END:VEVENT
BEGIN:VEVENT
DTSTART;TZID=America/Chicago:20230103T183000
DTEND;TZID=America/Chicago:20230103T193000
DTSTAMP:20260423T190549
CREATED:20221121T165735Z
LAST-MODIFIED:20221121T165818Z
UID:1698-1672770600-1672774200@hillcitylodge.org
SUMMARY:Dinner
DESCRIPTION:The  Stewards of Hill City Lodge #456 will be cooking a wonderful dinner. \nJoin us for dinner every Tuesday at 6:30 PM.
URL:https://hillcitylodge.org/event/dinner-3/
LOCATION:Hill City Lodge\, 1711 Lavaca\, Austin\, TX\, 78701\, United States
END:VEVENT
BEGIN:VEVENT
DTSTART;TZID=America/Chicago:20230801T193000
DTEND;TZID=America/Chicago:20230801T203000
DTSTAMP:20260423T190549
CREATED:20230615T124027Z
LAST-MODIFIED:20230615T124300Z
UID:1831-1690918200-1690921800@hillcitylodge.org
SUMMARY:Stated Meeting
DESCRIPTION:Please join us for the Stated Meeting of Hill City Lodge\, the first Tuesday of each month. \n5:30 p.m. – Ritual/C-certificate practice\n6:30 p.m. – Dinner (family\, friends\, & public welcome)\n7:30 p.m. – Stated meeting
URL:https://hillcitylodge.org/event/stated-meeting-5-2/
LOCATION:Hill City Lodge\, 1711 Lavaca\, Austin\, TX\, 78701\, United States
END:VEVENT
BEGIN:VEVENT
DTSTART;TZID=America/Chicago:20230103T183000
DTEND;TZID=America/Chicago:20230103T193000
DTSTAMP:20260423T190549
CREATED:20221121T165735Z
LAST-MODIFIED:20221121T165818Z
UID:1698-1672770600-1672774200@hillcitylodge.org
SUMMARY:Dinner
DESCRIPTION:The  Stewards of Hill City Lodge #456 will be cooking a wonderful dinner. \nJoin us for dinner every Tuesday at 6:30 PM.
URL:https://hillcitylodge.org/event/dinner-3/
LOCATION:Hill City Lodge\, 1711 Lavaca\, Austin\, TX\, 78701\, United States
END:VEVENT
BEGIN:VEVENT
DTSTART;TZID=America/Chicago:20240312T190000
DTEND;TZID=America/Chicago:20240312T203000
DTSTAMP:20260423T190549
CREATED:20240312T150000Z
LAST-MODIFIED:20240312T150000Z
UID:1994-1710270000-1710275400@hillcitylodge.org
SUMMARY:Master Mason Trial Lecture
DESCRIPTION:Join us for a called meeting: Master Mason Trial lecture. \n\n5:30 p.m. – Ritual/C-certificate practice\n6:30 p.m. – Dinner (family\, friends\, & public welcome)\n7:30 p.m. – Called Meeting – MM Trial Lecture
URL:https://hillcitylodge.org/event/master-mason-trial-lecture/
LOCATION:Hill City Lodge\, 1711 Lavaca\, Austin\, TX\, 78701\, United States
END:VEVENT
BEGIN:VEVENT
DTSTART;TZID=America/Chicago:20230103T183000
DTEND;TZID=America/Chicago:20230103T193000
DTSTAMP:20260423T190549
CREATED:20221121T165735Z
LAST-MODIFIED:20221121T165818Z
UID:1698-1672770600-1672774200@hillcitylodge.org
SUMMARY:Dinner
DESCRIPTION:The  Stewards of Hill City Lodge #456 will be cooking a wonderful dinner. \nJoin us for dinner every Tuesday at 6:30 PM.
URL:https://hillcitylodge.org/event/dinner-3/
LOCATION:Hill City Lodge\, 1711 Lavaca\, Austin\, TX\, 78701\, United States
END:VEVENT
BEGIN:VEVENT
DTSTART;TZID=America/Chicago:20240319T190000
DTEND;TZID=America/Chicago:20240319T200000
DTSTAMP:20260423T190549
CREATED:20240319T185148Z
LAST-MODIFIED:20240319T185148Z
UID:1997-1710874800-1710878400@hillcitylodge.org
SUMMARY:Esoteric work night
DESCRIPTION:Join the brethren for an Esoteric Work Night \n5:30 p.m. – Ritual/C-certificate practice\n6:30 p.m. – Dinner (family\, friends\, & public welcome)\n7:30 p.m. – Called Meeting – Esoteric Work Night
URL:https://hillcitylodge.org/event/esoteric-work-night-3/
LOCATION:Hill City Lodge\, 1711 Lavaca\, Austin\, TX\, 78701\, United States
END:VEVENT
BEGIN:VEVENT
DTSTART;TZID=America/Chicago:20230103T183000
DTEND;TZID=America/Chicago:20230103T193000
DTSTAMP:20260423T190549
CREATED:20221121T165735Z
LAST-MODIFIED:20221121T165818Z
UID:1698-1672770600-1672774200@hillcitylodge.org
SUMMARY:Dinner
DESCRIPTION:The  Stewards of Hill City Lodge #456 will be cooking a wonderful dinner. \nJoin us for dinner every Tuesday at 6:30 PM.
URL:https://hillcitylodge.org/event/dinner-3/
LOCATION:Hill City Lodge\, 1711 Lavaca\, Austin\, TX\, 78701\, United States
END:VEVENT
BEGIN:VEVENT
DTSTART;TZID=America/Chicago:20240326T190000
DTEND;TZID=America/Chicago:20240326T200000
DTSTAMP:20260423T190549
CREATED:20240325T233751Z
LAST-MODIFIED:20240325T233751Z
UID:2000-1711479600-1711483200@hillcitylodge.org
SUMMARY:Esoteric Work Night
DESCRIPTION:Join the brethren for an Esoteric Work Night \n5:30 p.m. – Ritual/C-certificate practice\n6:30 p.m. – Dinner (family\, friends\, & public welcome)\n7:30 p.m. – Called Meeting – Esoteric Work Night
URL:https://hillcitylodge.org/event/esoteric-work-night-4/
LOCATION:Hill City Lodge\, 1711 Lavaca\, Austin\, TX\, 78701\, United States
END:VEVENT
BEGIN:VEVENT
DTSTART;TZID=America/Chicago:20230103T183000
DTEND;TZID=America/Chicago:20230103T193000
DTSTAMP:20260423T190549
CREATED:20221121T165735Z
LAST-MODIFIED:20221121T165818Z
UID:1698-1672770600-1672774200@hillcitylodge.org
SUMMARY:Dinner
DESCRIPTION:The  Stewards of Hill City Lodge #456 will be cooking a wonderful dinner. \nJoin us for dinner every Tuesday at 6:30 PM.
URL:https://hillcitylodge.org/event/dinner-3/
LOCATION:Hill City Lodge\, 1711 Lavaca\, Austin\, TX\, 78701\, United States
END:VEVENT
BEGIN:VEVENT
DTSTART;TZID=America/Chicago:20230801T193000
DTEND;TZID=America/Chicago:20230801T203000
DTSTAMP:20260423T190549
CREATED:20230615T124027Z
LAST-MODIFIED:20230615T124300Z
UID:1831-1690918200-1690921800@hillcitylodge.org
SUMMARY:Stated Meeting
DESCRIPTION:Please join us for the Stated Meeting of Hill City Lodge\, the first Tuesday of each month. \n5:30 p.m. – Ritual/C-certificate practice\n6:30 p.m. – Dinner (family\, friends\, & public welcome)\n7:30 p.m. – Stated meeting
URL:https://hillcitylodge.org/event/stated-meeting-5-2/
LOCATION:Hill City Lodge\, 1711 Lavaca\, Austin\, TX\, 78701\, United States
END:VEVENT
BEGIN:VEVENT
DTSTART;TZID=America/Chicago:20230103T183000
DTEND;TZID=America/Chicago:20230103T193000
DTSTAMP:20260423T190549
CREATED:20221121T165735Z
LAST-MODIFIED:20221121T165818Z
UID:1698-1672770600-1672774200@hillcitylodge.org
SUMMARY:Dinner
DESCRIPTION:The  Stewards of Hill City Lodge #456 will be cooking a wonderful dinner. \nJoin us for dinner every Tuesday at 6:30 PM.
URL:https://hillcitylodge.org/event/dinner-3/
LOCATION:Hill City Lodge\, 1711 Lavaca\, Austin\, TX\, 78701\, United States
END:VEVENT
BEGIN:VEVENT
DTSTART;TZID=America/Chicago:20240409T183000
DTEND;TZID=America/Chicago:20240409T203000
DTSTAMP:20260423T190549
CREATED:20240325T233918Z
LAST-MODIFIED:20240325T233918Z
UID:2003-1712687400-1712694600@hillcitylodge.org
SUMMARY:Lodge is Dark
DESCRIPTION:Lodge is Dark
URL:https://hillcitylodge.org/event/lodge-is-dark-5/
LOCATION:Hill City Lodge\, 1711 Lavaca\, Austin\, TX\, 78701\, United States
END:VEVENT
BEGIN:VEVENT
DTSTART;TZID=America/Chicago:20230103T183000
DTEND;TZID=America/Chicago:20230103T193000
DTSTAMP:20260423T190549
CREATED:20221121T165735Z
LAST-MODIFIED:20221121T165818Z
UID:1698-1672770600-1672774200@hillcitylodge.org
SUMMARY:Dinner
DESCRIPTION:The  Stewards of Hill City Lodge #456 will be cooking a wonderful dinner. \nJoin us for dinner every Tuesday at 6:30 PM.
URL:https://hillcitylodge.org/event/dinner-3/
LOCATION:Hill City Lodge\, 1711 Lavaca\, Austin\, TX\, 78701\, United States
END:VEVENT
BEGIN:VEVENT
DTSTART;TZID=America/Chicago:20240416T190000
DTEND;TZID=America/Chicago:20240416T203000
DTSTAMP:20260423T190549
CREATED:20240325T234128Z
LAST-MODIFIED:20240325T234128Z
UID:2006-1713294000-1713299400@hillcitylodge.org
SUMMARY:MM Degree Practice
DESCRIPTION:Join the brethren for a Master mason degree practice \n5:30 p.m. – Ritual/C-certificate practice\n6:30 p.m. – Dinner (family\, friends\, & public welcome)\n7:30 p.m. – Called Meeting – MM Degree practice
URL:https://hillcitylodge.org/event/mm-degree-practice/
LOCATION:Hill City Lodge\, 1711 Lavaca\, Austin\, TX\, 78701\, United States
END:VEVENT
BEGIN:VEVENT
DTSTART;TZID=America/Chicago:20230103T183000
DTEND;TZID=America/Chicago:20230103T193000
DTSTAMP:20260423T190549
CREATED:20221121T165735Z
LAST-MODIFIED:20221121T165818Z
UID:1698-1672770600-1672774200@hillcitylodge.org
SUMMARY:Dinner
DESCRIPTION:The  Stewards of Hill City Lodge #456 will be cooking a wonderful dinner. \nJoin us for dinner every Tuesday at 6:30 PM.
URL:https://hillcitylodge.org/event/dinner-3/
LOCATION:Hill City Lodge\, 1711 Lavaca\, Austin\, TX\, 78701\, United States
END:VEVENT
BEGIN:VEVENT
DTSTART;TZID=America/Chicago:20240423T190000
DTEND;TZID=America/Chicago:20240423T203000
DTSTAMP:20260423T190549
CREATED:20240325T234247Z
LAST-MODIFIED:20240325T234247Z
UID:2009-1713898800-1713904200@hillcitylodge.org
SUMMARY:Master Mason Degree
DESCRIPTION:Join the brethren as we raise a worthy brother to the sublime degree of Master Mason. \n5:30 p.m. – Ritual/C-certificate practice\n6:30 p.m. – Dinner (family\, friends\, & public welcome)\n7:30 p.m. – Called Meeting – Master Mason’s Degree
URL:https://hillcitylodge.org/event/master-mason-degree-5/
LOCATION:Hill City Lodge\, 1711 Lavaca\, Austin\, TX\, 78701\, United States
END:VEVENT
BEGIN:VEVENT
DTSTART;TZID=America/Chicago:20230103T183000
DTEND;TZID=America/Chicago:20230103T193000
DTSTAMP:20260423T190549
CREATED:20221121T165735Z
LAST-MODIFIED:20221121T165818Z
UID:1698-1672770600-1672774200@hillcitylodge.org
SUMMARY:Dinner
DESCRIPTION:The  Stewards of Hill City Lodge #456 will be cooking a wonderful dinner. \nJoin us for dinner every Tuesday at 6:30 PM.
URL:https://hillcitylodge.org/event/dinner-3/
LOCATION:Hill City Lodge\, 1711 Lavaca\, Austin\, TX\, 78701\, United States
END:VEVENT
BEGIN:VEVENT
DTSTART;TZID=America/Chicago:20240430T193000
DTEND;TZID=America/Chicago:20240430T203000
DTSTAMP:20260423T190549
CREATED:20240325T234455Z
LAST-MODIFIED:20240325T234455Z
UID:2012-1714505400-1714509000@hillcitylodge.org
SUMMARY:Family Night and Scholarship Awards Ceremony
DESCRIPTION:Join us for Family Night and Scholarship Awards Ceremony. \nAll are welcome as we award Scholarships to worthy high school students. \n\n\n\n6:30 p.m. – Dinner (family\, friends\, & public welcome)\n7:30 p.m. – Open Meeting – family night and scholarship awards
URL:https://hillcitylodge.org/event/family-night-and-scholarship-awards-ceremony/
LOCATION:Hill City Lodge\, 1711 Lavaca\, Austin\, TX\, 78701\, United States
END:VEVENT
BEGIN:VEVENT
DTSTART;TZID=America/Chicago:20230103T183000
DTEND;TZID=America/Chicago:20230103T193000
DTSTAMP:20260423T190549
CREATED:20221121T165735Z
LAST-MODIFIED:20221121T165818Z
UID:1698-1672770600-1672774200@hillcitylodge.org
SUMMARY:Dinner
DESCRIPTION:The  Stewards of Hill City Lodge #456 will be cooking a wonderful dinner. \nJoin us for dinner every Tuesday at 6:30 PM.
URL:https://hillcitylodge.org/event/dinner-3/
LOCATION:Hill City Lodge\, 1711 Lavaca\, Austin\, TX\, 78701\, United States
END:VEVENT
BEGIN:VEVENT
DTSTART;TZID=America/Chicago:20230801T193000
DTEND;TZID=America/Chicago:20230801T203000
DTSTAMP:20260423T190549
CREATED:20230615T124027Z
LAST-MODIFIED:20230615T124300Z
UID:1831-1690918200-1690921800@hillcitylodge.org
SUMMARY:Stated Meeting
DESCRIPTION:Please join us for the Stated Meeting of Hill City Lodge\, the first Tuesday of each month. \n5:30 p.m. – Ritual/C-certificate practice\n6:30 p.m. – Dinner (family\, friends\, & public welcome)\n7:30 p.m. – Stated meeting
URL:https://hillcitylodge.org/event/stated-meeting-5-2/
LOCATION:Hill City Lodge\, 1711 Lavaca\, Austin\, TX\, 78701\, United States
END:VEVENT
BEGIN:VEVENT
DTSTART;TZID=America/Chicago:20230103T183000
DTEND;TZID=America/Chicago:20230103T193000
DTSTAMP:20260423T190549
CREATED:20221121T165735Z
LAST-MODIFIED:20221121T165818Z
UID:1698-1672770600-1672774200@hillcitylodge.org
SUMMARY:Dinner
DESCRIPTION:The  Stewards of Hill City Lodge #456 will be cooking a wonderful dinner. \nJoin us for dinner every Tuesday at 6:30 PM.
URL:https://hillcitylodge.org/event/dinner-3/
LOCATION:Hill City Lodge\, 1711 Lavaca\, Austin\, TX\, 78701\, United States
END:VEVENT
BEGIN:VEVENT
DTSTART;TZID=America/Chicago:20240514T193000
DTEND;TZID=America/Chicago:20240514T210000
DTSTAMP:20260423T190549
CREATED:20240506T131748Z
LAST-MODIFIED:20240506T131748Z
UID:2019-1715715000-1715720400@hillcitylodge.org
SUMMARY:Master Mason Degree
DESCRIPTION:Join the brethren as we raise a worthy brother to the sublime degree of Master Mason. \n5:30 p.m. – Ritual/C-certificate practice\n6:30 p.m. – Dinner (family\, friends\, & public welcome)\n7:30 p.m. – Called Meeting – Master Mason’s Degree
URL:https://hillcitylodge.org/event/master-mason-degree-6/
LOCATION:TX
END:VEVENT
BEGIN:VEVENT
DTSTART;TZID=America/Chicago:20230103T183000
DTEND;TZID=America/Chicago:20230103T193000
DTSTAMP:20260423T190549
CREATED:20221121T165735Z
LAST-MODIFIED:20221121T165818Z
UID:1698-1672770600-1672774200@hillcitylodge.org
SUMMARY:Dinner
DESCRIPTION:The  Stewards of Hill City Lodge #456 will be cooking a wonderful dinner. \nJoin us for dinner every Tuesday at 6:30 PM.
URL:https://hillcitylodge.org/event/dinner-3/
LOCATION:Hill City Lodge\, 1711 Lavaca\, Austin\, TX\, 78701\, United States
END:VEVENT
BEGIN:VEVENT
DTSTART;TZID=America/Chicago:20240521T190000
DTEND;TZID=America/Chicago:20240521T203000
DTSTAMP:20260423T190549
CREATED:20240506T132009Z
LAST-MODIFIED:20240506T132009Z
UID:2022-1716318000-1716323400@hillcitylodge.org
SUMMARY:Lodge Service Awards Family Night
DESCRIPTION:Join us for an Open Meeting where we present awards to worthy brothers.  Family\, friends\, public welcome. \n6:30 p.m. – Dinner (family\, friends\, & public welcome)\n7:30 p.m. – Open Meeting – Lodge Service Awards
URL:https://hillcitylodge.org/event/lodge-service-awards-family-night/
LOCATION:Hill City Lodge\, 1711 Lavaca\, Austin\, TX\, 78701\, United States
END:VEVENT
BEGIN:VEVENT
DTSTART;TZID=America/Chicago:20230103T183000
DTEND;TZID=America/Chicago:20230103T193000
DTSTAMP:20260423T190549
CREATED:20221121T165735Z
LAST-MODIFIED:20221121T165818Z
UID:1698-1672770600-1672774200@hillcitylodge.org
SUMMARY:Dinner
DESCRIPTION:The  Stewards of Hill City Lodge #456 will be cooking a wonderful dinner. \nJoin us for dinner every Tuesday at 6:30 PM.
URL:https://hillcitylodge.org/event/dinner-3/
LOCATION:Hill City Lodge\, 1711 Lavaca\, Austin\, TX\, 78701\, United States
END:VEVENT
BEGIN:VEVENT
DTSTART;TZID=America/Chicago:20240528T183000
DTEND;TZID=America/Chicago:20240528T203000
DTSTAMP:20260423T190549
CREATED:20240528T202701Z
LAST-MODIFIED:20240528T202701Z
UID:2037-1716921000-1716928200@hillcitylodge.org
SUMMARY:Esoteric work night
DESCRIPTION:Join the brethren for an esoteric work night. \n5:30 p.m. – Ritual/C-certificate practice\n6:30 p.m. – Dinner (family\, friends\, & public welcome)\n7:30 p.m. – Called Meeting – work night
URL:https://hillcitylodge.org/event/esoteric-work-night-5/
LOCATION:Hill City Lodge\, 1711 Lavaca\, Austin\, TX\, 78701\, United States
END:VEVENT
BEGIN:VEVENT
DTSTART;TZID=America/Chicago:20230103T183000
DTEND;TZID=America/Chicago:20230103T193000
DTSTAMP:20260423T190549
CREATED:20221121T165735Z
LAST-MODIFIED:20221121T165818Z
UID:1698-1672770600-1672774200@hillcitylodge.org
SUMMARY:Dinner
DESCRIPTION:The  Stewards of Hill City Lodge #456 will be cooking a wonderful dinner. \nJoin us for dinner every Tuesday at 6:30 PM.
URL:https://hillcitylodge.org/event/dinner-3/
LOCATION:Hill City Lodge\, 1711 Lavaca\, Austin\, TX\, 78701\, United States
END:VEVENT
BEGIN:VEVENT
DTSTART;TZID=America/Chicago:20240604T183000
DTEND;TZID=America/Chicago:20240604T203000
DTSTAMP:20260423T190549
CREATED:20240521T154850Z
LAST-MODIFIED:20240521T154850Z
UID:2034-1717525800-1717533000@hillcitylodge.org
SUMMARY:Stated Meeting
DESCRIPTION:Please join us for the Stated Meeting of Hill City Lodge\, the first Tuesday of each month. \n5:30 p.m. – Ritual/C-certificate practice\n6:30 p.m. – Dinner (family\, friends\, & public welcome)\n7:30 p.m. – Stated meeting
URL:https://hillcitylodge.org/event/stated-meeting-6/
LOCATION:Hill City Lodge\, 1711 Lavaca\, Austin\, TX\, 78701\, United States
END:VEVENT
BEGIN:VEVENT
DTSTART;TZID=America/Chicago:20230801T193000
DTEND;TZID=America/Chicago:20230801T203000
DTSTAMP:20260423T190549
CREATED:20230615T124027Z
LAST-MODIFIED:20230615T124300Z
UID:1831-1690918200-1690921800@hillcitylodge.org
SUMMARY:Stated Meeting
DESCRIPTION:Please join us for the Stated Meeting of Hill City Lodge\, the first Tuesday of each month. \n5:30 p.m. – Ritual/C-certificate practice\n6:30 p.m. – Dinner (family\, friends\, & public welcome)\n7:30 p.m. – Stated meeting
URL:https://hillcitylodge.org/event/stated-meeting-5-2/
LOCATION:Hill City Lodge\, 1711 Lavaca\, Austin\, TX\, 78701\, United States
END:VEVENT
END:VCALENDAR