BEGIN:VCALENDAR
VERSION:2.0
PRODID:-//Hill City Masonic Lodge #456, A.F. &amp; A.M. - ECPv6.15.20//NONSGML v1.0//EN
CALSCALE:GREGORIAN
METHOD:PUBLISH
X-WR-CALNAME:Hill City Masonic Lodge #456, A.F. &amp; A.M.
X-ORIGINAL-URL:https://hillcitylodge.org
X-WR-CALDESC:Events for Hill City Masonic Lodge #456, A.F. &amp; A.M.
REFRESH-INTERVAL;VALUE=DURATION:PT1H
X-Robots-Tag:noindex
X-PUBLISHED-TTL:PT1H
BEGIN:VTIMEZONE
TZID:America/New_York
BEGIN:DAYLIGHT
TZOFFSETFROM:-0500
TZOFFSETTO:-0400
TZNAME:EDT
DTSTART:20210314T070000
END:DAYLIGHT
BEGIN:STANDARD
TZOFFSETFROM:-0400
TZOFFSETTO:-0500
TZNAME:EST
DTSTART:20211107T060000
END:STANDARD
BEGIN:DAYLIGHT
TZOFFSETFROM:-0500
TZOFFSETTO:-0400
TZNAME:EDT
DTSTART:20220313T070000
END:DAYLIGHT
BEGIN:STANDARD
TZOFFSETFROM:-0400
TZOFFSETTO:-0500
TZNAME:EST
DTSTART:20221106T060000
END:STANDARD
BEGIN:DAYLIGHT
TZOFFSETFROM:-0500
TZOFFSETTO:-0400
TZNAME:EDT
DTSTART:20230312T070000
END:DAYLIGHT
BEGIN:STANDARD
TZOFFSETFROM:-0400
TZOFFSETTO:-0500
TZNAME:EST
DTSTART:20231105T060000
END:STANDARD
END:VTIMEZONE
BEGIN:VEVENT
DTSTART;TZID=America/New_York:20220412T193000
DTEND;TZID=America/New_York:20220412T193000
DTSTAMP:20260424T005435
CREATED:20220411T211610Z
LAST-MODIFIED:20220411T211610Z
UID:1190-1649791800-1649791800@hillcitylodge.org
SUMMARY:Called Meeting-click for Trestle Board
DESCRIPTION:Weekly on Tuesday\, until Jun 29\, 2022
URL:https://hillcitylodge.org/event/called-meeting-click-for-trestle-board/
LOCATION:TX
END:VEVENT
BEGIN:VEVENT
DTSTART;TZID=America/New_York:20220503T193000
DTEND;TZID=America/New_York:20220503T193000
DTSTAMP:20260424T005435
CREATED:20220411T211248Z
LAST-MODIFIED:20220411T211650Z
UID:1155-1651606200-1651606200@hillcitylodge.org
SUMMARY:Stated Meeting - click for Trestle Board
DESCRIPTION:Weekly on Tuesday\, until Jun 29\, 2022
URL:https://hillcitylodge.org/event/stated-meeting/
LOCATION:TX
END:VEVENT
BEGIN:VEVENT
DTSTART;TZID=America/New_York:20220607T193000
DTEND;TZID=America/New_York:20220607T193000
DTSTAMP:20260424T005435
CREATED:20220411T211248Z
LAST-MODIFIED:20220411T214200Z
UID:1158-1654630200-1654630200@hillcitylodge.org
SUMMARY:Stated Meeting - click for Trestle Board
DESCRIPTION:Election of Officers – Weekly on Tuesday\, until Jun 29\, 2022
URL:https://hillcitylodge.org/event/stated-meeting-2022-06-07/
LOCATION:TX
END:VEVENT
BEGIN:VEVENT
DTSTART;TZID=America/New_York:20220412T193000
DTEND;TZID=America/New_York:20220412T193000
DTSTAMP:20260424T005435
CREATED:20220411T211610Z
LAST-MODIFIED:20220411T211610Z
UID:1190-1649791800-1649791800@hillcitylodge.org
SUMMARY:Called Meeting-click for Trestle Board
DESCRIPTION:Weekly on Tuesday\, until Jun 29\, 2022
URL:https://hillcitylodge.org/event/called-meeting-click-for-trestle-board/
LOCATION:TX
END:VEVENT
BEGIN:VEVENT
DTSTART;TZID=America/New_York:20220412T193000
DTEND;TZID=America/New_York:20220412T193000
DTSTAMP:20260424T005435
CREATED:20220411T211610Z
LAST-MODIFIED:20220411T211610Z
UID:1190-1649791800-1649791800@hillcitylodge.org
SUMMARY:Called Meeting-click for Trestle Board
DESCRIPTION:Weekly on Tuesday\, until Jun 29\, 2022
URL:https://hillcitylodge.org/event/called-meeting-click-for-trestle-board/
LOCATION:TX
END:VEVENT
BEGIN:VEVENT
DTSTART;TZID=America/New_York:20220517T193000
DTEND;TZID=America/New_York:20220517T193000
DTSTAMP:20260424T005435
CREATED:20220411T211610Z
LAST-MODIFIED:20220411T213944Z
UID:1196-1652815800-1652815800@hillcitylodge.org
SUMMARY:Family Night-click for Trestle Board
DESCRIPTION:Golden Trowel Award – Weekly on Tuesday\, until Jun 29\, 2022
URL:https://hillcitylodge.org/event/called-meeting-click-for-trestle-board-2022-05-17/
LOCATION:TX
END:VEVENT
BEGIN:VEVENT
DTSTART;TZID=America/New_York:20220412T193000
DTEND;TZID=America/New_York:20220412T193000
DTSTAMP:20260424T005435
CREATED:20220411T211610Z
LAST-MODIFIED:20220411T211610Z
UID:1190-1649791800-1649791800@hillcitylodge.org
SUMMARY:Called Meeting-click for Trestle Board
DESCRIPTION:Weekly on Tuesday\, until Jun 29\, 2022
URL:https://hillcitylodge.org/event/called-meeting-click-for-trestle-board/
LOCATION:TX
END:VEVENT
BEGIN:VEVENT
DTSTART;TZID=America/New_York:20220412T193000
DTEND;TZID=America/New_York:20220412T193000
DTSTAMP:20260424T005435
CREATED:20220411T211610Z
LAST-MODIFIED:20220411T211610Z
UID:1190-1649791800-1649791800@hillcitylodge.org
SUMMARY:Called Meeting-click for Trestle Board
DESCRIPTION:Weekly on Tuesday\, until Jun 29\, 2022
URL:https://hillcitylodge.org/event/called-meeting-click-for-trestle-board/
LOCATION:TX
END:VEVENT
BEGIN:VEVENT
DTSTART;TZID=America/New_York:20220412T193000
DTEND;TZID=America/New_York:20220412T193000
DTSTAMP:20260424T005435
CREATED:20220411T211610Z
LAST-MODIFIED:20220411T211610Z
UID:1190-1649791800-1649791800@hillcitylodge.org
SUMMARY:Called Meeting-click for Trestle Board
DESCRIPTION:Weekly on Tuesday\, until Jun 29\, 2022
URL:https://hillcitylodge.org/event/called-meeting-click-for-trestle-board/
LOCATION:TX
END:VEVENT
BEGIN:VEVENT
DTSTART;TZID=America/New_York:20220503T193000
DTEND;TZID=America/New_York:20220503T193000
DTSTAMP:20260424T005435
CREATED:20220411T211248Z
LAST-MODIFIED:20220411T211650Z
UID:1155-1651606200-1651606200@hillcitylodge.org
SUMMARY:Stated Meeting - click for Trestle Board
DESCRIPTION:Weekly on Tuesday\, until Jun 29\, 2022
URL:https://hillcitylodge.org/event/stated-meeting/
LOCATION:TX
END:VEVENT
BEGIN:VEVENT
DTSTART;TZID=America/New_York:20220412T193000
DTEND;TZID=America/New_York:20220412T193000
DTSTAMP:20260424T005435
CREATED:20220411T211610Z
LAST-MODIFIED:20220411T211610Z
UID:1190-1649791800-1649791800@hillcitylodge.org
SUMMARY:Called Meeting-click for Trestle Board
DESCRIPTION:Weekly on Tuesday\, until Jun 29\, 2022
URL:https://hillcitylodge.org/event/called-meeting-click-for-trestle-board/
LOCATION:TX
END:VEVENT
BEGIN:VEVENT
DTSTART;TZID=America/New_York:20220412T193000
DTEND;TZID=America/New_York:20220412T193000
DTSTAMP:20260424T005435
CREATED:20220411T211610Z
LAST-MODIFIED:20220411T211610Z
UID:1190-1649791800-1649791800@hillcitylodge.org
SUMMARY:Called Meeting-click for Trestle Board
DESCRIPTION:Weekly on Tuesday\, until Jun 29\, 2022
URL:https://hillcitylodge.org/event/called-meeting-click-for-trestle-board/
LOCATION:TX
END:VEVENT
BEGIN:VEVENT
DTSTART;TZID=America/New_York:20220419T193000
DTEND;TZID=America/New_York:20220419T193000
DTSTAMP:20260424T005435
CREATED:20220411T211610Z
LAST-MODIFIED:20220411T213836Z
UID:1192-1650396600-1650396600@hillcitylodge.org
SUMMARY:Family Night-click for Trestle Board
DESCRIPTION:Scholarship Awards – \nWeekly on Tuesday\, until Jun 29\, 2022
URL:https://hillcitylodge.org/event/called-meeting-click-for-trestle-board-2022-04-19/
LOCATION:TX
END:VEVENT
BEGIN:VEVENT
DTSTART;TZID=America/New_York:20220412T193000
DTEND;TZID=America/New_York:20220412T193000
DTSTAMP:20260424T005435
CREATED:20220411T211610Z
LAST-MODIFIED:20220411T211610Z
UID:1190-1649791800-1649791800@hillcitylodge.org
SUMMARY:Called Meeting-click for Trestle Board
DESCRIPTION:Weekly on Tuesday\, until Jun 29\, 2022
URL:https://hillcitylodge.org/event/called-meeting-click-for-trestle-board/
LOCATION:TX
END:VEVENT
END:VCALENDAR