BEGIN:VCALENDAR
VERSION:2.0
PRODID:-//Hill City Masonic Lodge #456, A.F. &amp; A.M. - ECPv6.15.20//NONSGML v1.0//EN
CALSCALE:GREGORIAN
METHOD:PUBLISH
X-WR-CALNAME:Hill City Masonic Lodge #456, A.F. &amp; A.M.
X-ORIGINAL-URL:https://hillcitylodge.org
X-WR-CALDESC:Events for Hill City Masonic Lodge #456, A.F. &amp; A.M.
REFRESH-INTERVAL;VALUE=DURATION:PT1H
X-Robots-Tag:noindex
X-PUBLISHED-TTL:PT1H
BEGIN:VTIMEZONE
TZID:America/Chicago
BEGIN:DAYLIGHT
TZOFFSETFROM:-0600
TZOFFSETTO:-0500
TZNAME:CDT
DTSTART:20210314T080000
END:DAYLIGHT
BEGIN:STANDARD
TZOFFSETFROM:-0500
TZOFFSETTO:-0600
TZNAME:CST
DTSTART:20211107T070000
END:STANDARD
BEGIN:DAYLIGHT
TZOFFSETFROM:-0600
TZOFFSETTO:-0500
TZNAME:CDT
DTSTART:20220313T080000
END:DAYLIGHT
BEGIN:STANDARD
TZOFFSETFROM:-0500
TZOFFSETTO:-0600
TZNAME:CST
DTSTART:20221106T070000
END:STANDARD
BEGIN:DAYLIGHT
TZOFFSETFROM:-0600
TZOFFSETTO:-0500
TZNAME:CDT
DTSTART:20230312T080000
END:DAYLIGHT
BEGIN:STANDARD
TZOFFSETFROM:-0500
TZOFFSETTO:-0600
TZNAME:CST
DTSTART:20231105T070000
END:STANDARD
BEGIN:DAYLIGHT
TZOFFSETFROM:-0600
TZOFFSETTO:-0500
TZNAME:CDT
DTSTART:20240310T080000
END:DAYLIGHT
BEGIN:STANDARD
TZOFFSETFROM:-0500
TZOFFSETTO:-0600
TZNAME:CST
DTSTART:20241103T070000
END:STANDARD
END:VTIMEZONE
BEGIN:VTIMEZONE
TZID:America/New_York
BEGIN:DAYLIGHT
TZOFFSETFROM:-0500
TZOFFSETTO:-0400
TZNAME:EDT
DTSTART:20210314T070000
END:DAYLIGHT
BEGIN:STANDARD
TZOFFSETFROM:-0400
TZOFFSETTO:-0500
TZNAME:EST
DTSTART:20211107T060000
END:STANDARD
BEGIN:DAYLIGHT
TZOFFSETFROM:-0500
TZOFFSETTO:-0400
TZNAME:EDT
DTSTART:20220313T070000
END:DAYLIGHT
BEGIN:STANDARD
TZOFFSETFROM:-0400
TZOFFSETTO:-0500
TZNAME:EST
DTSTART:20221106T060000
END:STANDARD
BEGIN:DAYLIGHT
TZOFFSETFROM:-0500
TZOFFSETTO:-0400
TZNAME:EDT
DTSTART:20230312T070000
END:DAYLIGHT
BEGIN:STANDARD
TZOFFSETFROM:-0400
TZOFFSETTO:-0500
TZNAME:EST
DTSTART:20231105T060000
END:STANDARD
END:VTIMEZONE
BEGIN:VEVENT
DTSTART;TZID=America/Chicago:20230103T183000
DTEND;TZID=America/Chicago:20230103T193000
DTSTAMP:20260425T052808
CREATED:20221121T165735Z
LAST-MODIFIED:20221121T165818Z
UID:1698-1672770600-1672774200@hillcitylodge.org
SUMMARY:Dinner
DESCRIPTION:The  Stewards of Hill City Lodge #456 will be cooking a wonderful dinner. \nJoin us for dinner every Tuesday at 6:30 PM.
URL:https://hillcitylodge.org/event/dinner-3/
LOCATION:Hill City Lodge\, 1711 Lavaca\, Austin\, TX\, 78701\, United States
END:VEVENT
BEGIN:VEVENT
DTSTART;TZID=America/Chicago:20221206T193000
DTEND;TZID=America/Chicago:20221206T203000
DTSTAMP:20260425T052808
CREATED:20221104T203538Z
LAST-MODIFIED:20221104T203645Z
UID:1653-1670355000-1670358600@hillcitylodge.org
SUMMARY:Stated Meeting
DESCRIPTION:Please join us for the Stated Meeting of Hill City Lodge\, the first Tuesday of each month. \n5:30 p.m. – Ritual/C-certificate practice\n6:30 p.m. – Dinner (family\, friends\, & public welcome)\n7:30 p.m. – Stated meeting
URL:https://hillcitylodge.org/event/stated-meeting-5/
LOCATION:Hill City Lodge\, 1711 Lavaca\, Austin\, TX\, 78701\, United States
END:VEVENT
BEGIN:VEVENT
DTSTART;TZID=America/Chicago:20230103T183000
DTEND;TZID=America/Chicago:20230103T193000
DTSTAMP:20260425T052808
CREATED:20221121T165735Z
LAST-MODIFIED:20221121T165818Z
UID:1698-1672770600-1672774200@hillcitylodge.org
SUMMARY:Dinner
DESCRIPTION:The  Stewards of Hill City Lodge #456 will be cooking a wonderful dinner. \nJoin us for dinner every Tuesday at 6:30 PM.
URL:https://hillcitylodge.org/event/dinner-3/
LOCATION:Hill City Lodge\, 1711 Lavaca\, Austin\, TX\, 78701\, United States
END:VEVENT
BEGIN:VEVENT
DTSTART;TZID=America/Chicago:20230103T183000
DTEND;TZID=America/Chicago:20230103T193000
DTSTAMP:20260425T052808
CREATED:20221121T165735Z
LAST-MODIFIED:20221121T165818Z
UID:1698-1672770600-1672774200@hillcitylodge.org
SUMMARY:Dinner
DESCRIPTION:The  Stewards of Hill City Lodge #456 will be cooking a wonderful dinner. \nJoin us for dinner every Tuesday at 6:30 PM.
URL:https://hillcitylodge.org/event/dinner-3/
LOCATION:Hill City Lodge\, 1711 Lavaca\, Austin\, TX\, 78701\, United States
END:VEVENT
BEGIN:VEVENT
DTSTART;TZID=America/Chicago:20230221T190000
DTEND;TZID=America/Chicago:20230221T203000
DTSTAMP:20260425T052808
CREATED:20230217T162807Z
LAST-MODIFIED:20230217T162807Z
UID:1761-1677006000-1677011400@hillcitylodge.org
SUMMARY:Entered Apprentice Degree
DESCRIPTION:Please join us as we hold an Entered Apprentice Degree for a worthy candidate. \n\n\n\n\n5:30 p.m. – Ritual/C-certificate practice\n6:30 p.m. – Dinner (family\, friends\, & public welcome)\n7:30 p.m. – Called Meeting – Entered Apprentice Degree
URL:https://hillcitylodge.org/event/entered-apprentice-degree-4/
LOCATION:Hill City Lodge\, 1711 Lavaca\, Austin\, TX\, 78701\, United States
END:VEVENT
BEGIN:VEVENT
DTSTART;TZID=America/Chicago:20230103T183000
DTEND;TZID=America/Chicago:20230103T193000
DTSTAMP:20260425T052808
CREATED:20221121T165735Z
LAST-MODIFIED:20221121T165818Z
UID:1698-1672770600-1672774200@hillcitylodge.org
SUMMARY:Dinner
DESCRIPTION:The  Stewards of Hill City Lodge #456 will be cooking a wonderful dinner. \nJoin us for dinner every Tuesday at 6:30 PM.
URL:https://hillcitylodge.org/event/dinner-3/
LOCATION:Hill City Lodge\, 1711 Lavaca\, Austin\, TX\, 78701\, United States
END:VEVENT
BEGIN:VEVENT
DTSTART;TZID=America/Chicago:20230214T183000
DTEND;TZID=America/Chicago:20230214T200000
DTSTAMP:20260425T052808
CREATED:20230213T125152Z
LAST-MODIFIED:20230213T125152Z
UID:1753-1676399400-1676404800@hillcitylodge.org
SUMMARY:Family Night
DESCRIPTION:Next Tuesday\, February 14\, the Lodge will have a Family Night! in honor of our “Sweethearts” Its the annual Sweethearts Dinner at Hill City. We will celebrate Valentines Day with the Sweethearts in our lives. We are asking for RSVP\, if possible. The Stewards have planned a wonderful meal of Teriyaki Glazed Salmon\, and Poshatinio Salad\, and sides. We will have roses for our Sweethearts so\, lets all RSVP by texting Nick at 512 865 8777.
URL:https://hillcitylodge.org/event/family-night/
LOCATION:Hill City Lodge\, 1711 Lavaca\, Austin\, TX\, 78701\, United States
END:VEVENT
BEGIN:VEVENT
DTSTART;TZID=America/Chicago:20230103T183000
DTEND;TZID=America/Chicago:20230103T193000
DTSTAMP:20260425T052808
CREATED:20221121T165735Z
LAST-MODIFIED:20221121T165818Z
UID:1698-1672770600-1672774200@hillcitylodge.org
SUMMARY:Dinner
DESCRIPTION:The  Stewards of Hill City Lodge #456 will be cooking a wonderful dinner. \nJoin us for dinner every Tuesday at 6:30 PM.
URL:https://hillcitylodge.org/event/dinner-3/
LOCATION:Hill City Lodge\, 1711 Lavaca\, Austin\, TX\, 78701\, United States
END:VEVENT
BEGIN:VEVENT
DTSTART;TZID=America/Chicago:20221206T193000
DTEND;TZID=America/Chicago:20221206T203000
DTSTAMP:20260425T052808
CREATED:20221104T203538Z
LAST-MODIFIED:20221104T203645Z
UID:1653-1670355000-1670358600@hillcitylodge.org
SUMMARY:Stated Meeting
DESCRIPTION:Please join us for the Stated Meeting of Hill City Lodge\, the first Tuesday of each month. \n5:30 p.m. – Ritual/C-certificate practice\n6:30 p.m. – Dinner (family\, friends\, & public welcome)\n7:30 p.m. – Stated meeting
URL:https://hillcitylodge.org/event/stated-meeting-5/
LOCATION:Hill City Lodge\, 1711 Lavaca\, Austin\, TX\, 78701\, United States
END:VEVENT
BEGIN:VEVENT
DTSTART;TZID=America/Chicago:20230103T183000
DTEND;TZID=America/Chicago:20230103T193000
DTSTAMP:20260425T052808
CREATED:20221121T165735Z
LAST-MODIFIED:20221121T165818Z
UID:1698-1672770600-1672774200@hillcitylodge.org
SUMMARY:Dinner
DESCRIPTION:The  Stewards of Hill City Lodge #456 will be cooking a wonderful dinner. \nJoin us for dinner every Tuesday at 6:30 PM.
URL:https://hillcitylodge.org/event/dinner-3/
LOCATION:Hill City Lodge\, 1711 Lavaca\, Austin\, TX\, 78701\, United States
END:VEVENT
BEGIN:VEVENT
DTSTART;TZID=America/Chicago:20230131T193000
DTEND;TZID=America/Chicago:20230131T210000
DTSTAMP:20260425T052808
CREATED:20230109T172956Z
LAST-MODIFIED:20230130T205930Z
UID:1731-1675193400-1675198800@hillcitylodge.org
SUMMARY:Lodge is Dark
DESCRIPTION:Lodge is Dark due to inclement weather.
URL:https://hillcitylodge.org/event/entered-apprentice-degree-3/
LOCATION:Hill City Lodge\, 1711 Lavaca\, Austin\, TX\, 78701\, United States
END:VEVENT
BEGIN:VEVENT
DTSTART;TZID=America/Chicago:20230103T183000
DTEND;TZID=America/Chicago:20230103T193000
DTSTAMP:20260425T052808
CREATED:20221121T165735Z
LAST-MODIFIED:20221121T165818Z
UID:1698-1672770600-1672774200@hillcitylodge.org
SUMMARY:Dinner
DESCRIPTION:The  Stewards of Hill City Lodge #456 will be cooking a wonderful dinner. \nJoin us for dinner every Tuesday at 6:30 PM.
URL:https://hillcitylodge.org/event/dinner-3/
LOCATION:Hill City Lodge\, 1711 Lavaca\, Austin\, TX\, 78701\, United States
END:VEVENT
BEGIN:VEVENT
DTSTART;TZID=America/Chicago:20230124T193000
DTEND;TZID=America/Chicago:20230124T203000
DTSTAMP:20260425T052808
CREATED:20221121T170311Z
LAST-MODIFIED:20230109T172746Z
UID:1708-1674588600-1674592200@hillcitylodge.org
SUMMARY:Master Mason Degree
DESCRIPTION:Join us as we raise a worth brother to the sublime degree of Master Mason at Hill City Lodge. \n5:30 p.m. – Ritual/C-certificate practice\n6:30 p.m. – Dinner (family\, friends\, & public welcome)\n7:30 p.m. – Called Meeting
URL:https://hillcitylodge.org/event/entered-apprentice-degree-practice/
LOCATION:Hill City Lodge\, 1711 Lavaca\, Austin\, TX\, 78701\, United States
END:VEVENT
BEGIN:VEVENT
DTSTART;TZID=America/Chicago:20230103T183000
DTEND;TZID=America/Chicago:20230103T193000
DTSTAMP:20260425T052808
CREATED:20221121T165735Z
LAST-MODIFIED:20221121T165818Z
UID:1698-1672770600-1672774200@hillcitylodge.org
SUMMARY:Dinner
DESCRIPTION:The  Stewards of Hill City Lodge #456 will be cooking a wonderful dinner. \nJoin us for dinner every Tuesday at 6:30 PM.
URL:https://hillcitylodge.org/event/dinner-3/
LOCATION:Hill City Lodge\, 1711 Lavaca\, Austin\, TX\, 78701\, United States
END:VEVENT
BEGIN:VEVENT
DTSTART;TZID=America/Chicago:20230117T193000
DTEND;TZID=America/Chicago:20230117T210000
DTSTAMP:20260425T052808
CREATED:20221121T170154Z
LAST-MODIFIED:20230109T172711Z
UID:1705-1673983800-1673989200@hillcitylodge.org
SUMMARY:Master Mason degree practice
DESCRIPTION:5:30 p.m. – Ritual/C-certificate practice\n6:30 p.m. – Dinner (family\, friends\, & public welcome)\n7:30 p.m. – Called Meeting
URL:https://hillcitylodge.org/event/master-mason-degree/
LOCATION:Hill City Lodge\, 1711 Lavaca\, Austin\, TX\, 78701\, United States
END:VEVENT
BEGIN:VEVENT
DTSTART;TZID=America/Chicago:20230103T183000
DTEND;TZID=America/Chicago:20230103T193000
DTSTAMP:20260425T052808
CREATED:20221121T165735Z
LAST-MODIFIED:20221121T165818Z
UID:1698-1672770600-1672774200@hillcitylodge.org
SUMMARY:Dinner
DESCRIPTION:The  Stewards of Hill City Lodge #456 will be cooking a wonderful dinner. \nJoin us for dinner every Tuesday at 6:30 PM.
URL:https://hillcitylodge.org/event/dinner-3/
LOCATION:Hill City Lodge\, 1711 Lavaca\, Austin\, TX\, 78701\, United States
END:VEVENT
BEGIN:VEVENT
DTSTART;TZID=America/Chicago:20230110T193000
DTEND;TZID=America/Chicago:20230110T203000
DTSTAMP:20260425T052808
CREATED:20221121T170000Z
LAST-MODIFIED:20221121T170000Z
UID:1702-1673379000-1673382600@hillcitylodge.org
SUMMARY:Master Mason degree practice
DESCRIPTION:Join us for a Master Mason degree practice and called meeting at Hill City Lodge. \n5:30 p.m. – Ritual/C-certificate practice\n6:30 p.m. – Dinner (family\, friends\, & public welcome)\n7:30 p.m. – Called Meeting
URL:https://hillcitylodge.org/event/master-mason-degree-practice-4/
LOCATION:Hill City Lodge\, 1711 Lavaca\, Austin\, TX\, 78701\, United States
END:VEVENT
BEGIN:VEVENT
DTSTART;TZID=America/Chicago:20230103T183000
DTEND;TZID=America/Chicago:20230103T193000
DTSTAMP:20260425T052808
CREATED:20221121T165735Z
LAST-MODIFIED:20221121T165818Z
UID:1698-1672770600-1672774200@hillcitylodge.org
SUMMARY:Dinner
DESCRIPTION:The  Stewards of Hill City Lodge #456 will be cooking a wonderful dinner. \nJoin us for dinner every Tuesday at 6:30 PM.
URL:https://hillcitylodge.org/event/dinner-3/
LOCATION:Hill City Lodge\, 1711 Lavaca\, Austin\, TX\, 78701\, United States
END:VEVENT
BEGIN:VEVENT
DTSTART;TZID=America/Chicago:20221206T193000
DTEND;TZID=America/Chicago:20221206T203000
DTSTAMP:20260425T052808
CREATED:20221104T203538Z
LAST-MODIFIED:20221104T203645Z
UID:1653-1670355000-1670358600@hillcitylodge.org
SUMMARY:Stated Meeting
DESCRIPTION:Please join us for the Stated Meeting of Hill City Lodge\, the first Tuesday of each month. \n5:30 p.m. – Ritual/C-certificate practice\n6:30 p.m. – Dinner (family\, friends\, & public welcome)\n7:30 p.m. – Stated meeting
URL:https://hillcitylodge.org/event/stated-meeting-5/
LOCATION:Hill City Lodge\, 1711 Lavaca\, Austin\, TX\, 78701\, United States
END:VEVENT
BEGIN:VEVENT
DTSTART;TZID=America/Chicago:20230103T183000
DTEND;TZID=America/Chicago:20230103T193000
DTSTAMP:20260425T052808
CREATED:20221121T165735Z
LAST-MODIFIED:20221121T165818Z
UID:1698-1672770600-1672774200@hillcitylodge.org
SUMMARY:Dinner
DESCRIPTION:The  Stewards of Hill City Lodge #456 will be cooking a wonderful dinner. \nJoin us for dinner every Tuesday at 6:30 PM.
URL:https://hillcitylodge.org/event/dinner-3/
LOCATION:Hill City Lodge\, 1711 Lavaca\, Austin\, TX\, 78701\, United States
END:VEVENT
BEGIN:VEVENT
DTSTART;TZID=America/Chicago:20221227T173000
DTEND;TZID=America/Chicago:20221227T193000
DTSTAMP:20260425T052808
CREATED:20221121T165328Z
LAST-MODIFIED:20221121T165328Z
UID:1692-1672162200-1672169400@hillcitylodge.org
SUMMARY:Lodge is Dark
DESCRIPTION:Lodge is Dark
URL:https://hillcitylodge.org/event/lodge-is-dark/
LOCATION:TX
END:VEVENT
BEGIN:VEVENT
DTSTART;TZID=America/Chicago:20221220T193000
DTEND;TZID=America/Chicago:20221220T203000
DTSTAMP:20260425T052808
CREATED:20221121T164956Z
LAST-MODIFIED:20221121T165523Z
UID:1685-1671564600-1671568200@hillcitylodge.org
SUMMARY:Master Mason degree practice
DESCRIPTION:Join us for a Master Mason degree practice and called meeting at Hill City Lodge. \n5:30 p.m. – Ritual/C-certificate practice\n6:30 p.m. – Dinner (family\, friends\, & public welcome)\n7:30 p.m. – Called Meeting
URL:https://hillcitylodge.org/event/master-mason-degree-practice-3/
LOCATION:Hill City Lodge\, 1711 Lavaca\, Austin\, TX\, 78701\, United States
END:VEVENT
BEGIN:VEVENT
DTSTART;TZID=America/Chicago:20221129T183000
DTEND;TZID=America/Chicago:20221129T193000
DTSTAMP:20260425T052808
CREATED:20221121T164415Z
LAST-MODIFIED:20221121T164415Z
UID:1678-1669746600-1669750200@hillcitylodge.org
SUMMARY:Dinner
DESCRIPTION:The  Stewards of Hill City Lodge #456 will be cooking a wonderful dinner. \nJoin us for dinner every Tuesday at 6:30 PM.
URL:https://hillcitylodge.org/event/dinner/
LOCATION:Hill City Lodge\, 1711 Lavaca\, Austin\, TX\, 78701\, United States
END:VEVENT
BEGIN:VEVENT
DTSTART;TZID=America/Chicago:20221213T183000
DTEND;TZID=America/Chicago:20221213T203000
DTSTAMP:20260425T052808
CREATED:20221121T165209Z
LAST-MODIFIED:20221121T165452Z
UID:1689-1670956200-1670963400@hillcitylodge.org
SUMMARY:Past Master's Dinner
DESCRIPTION:Join us as the Past Masters cook us a wonderful meal at Hill City Lodge. \n5:30 p.m. – Ritual/C-certificate practice\n6:30 p.m. – Dinner (family\, friends\, & public welcome)\n7:30 p.m. – Called Meeting
URL:https://hillcitylodge.org/event/past-masters-dinner/
LOCATION:Hill City Lodge\, 1711 Lavaca\, Austin\, TX\, 78701\, United States
END:VEVENT
BEGIN:VEVENT
DTSTART;TZID=America/Chicago:20221129T183000
DTEND;TZID=America/Chicago:20221129T193000
DTSTAMP:20260425T052808
CREATED:20221121T164415Z
LAST-MODIFIED:20221121T164415Z
UID:1678-1669746600-1669750200@hillcitylodge.org
SUMMARY:Dinner
DESCRIPTION:The  Stewards of Hill City Lodge #456 will be cooking a wonderful dinner. \nJoin us for dinner every Tuesday at 6:30 PM.
URL:https://hillcitylodge.org/event/dinner/
LOCATION:Hill City Lodge\, 1711 Lavaca\, Austin\, TX\, 78701\, United States
END:VEVENT
BEGIN:VEVENT
DTSTART;TZID=America/Chicago:20221206T193000
DTEND;TZID=America/Chicago:20221206T203000
DTSTAMP:20260425T052808
CREATED:20221104T203538Z
LAST-MODIFIED:20221104T203645Z
UID:1653-1670355000-1670358600@hillcitylodge.org
SUMMARY:Stated Meeting
DESCRIPTION:Please join us for the Stated Meeting of Hill City Lodge\, the first Tuesday of each month. \n5:30 p.m. – Ritual/C-certificate practice\n6:30 p.m. – Dinner (family\, friends\, & public welcome)\n7:30 p.m. – Stated meeting
URL:https://hillcitylodge.org/event/stated-meeting-5/
LOCATION:Hill City Lodge\, 1711 Lavaca\, Austin\, TX\, 78701\, United States
END:VEVENT
BEGIN:VEVENT
DTSTART;TZID=America/Chicago:20221129T183000
DTEND;TZID=America/Chicago:20221129T193000
DTSTAMP:20260425T052808
CREATED:20221121T164415Z
LAST-MODIFIED:20221121T164415Z
UID:1678-1669746600-1669750200@hillcitylodge.org
SUMMARY:Dinner
DESCRIPTION:The  Stewards of Hill City Lodge #456 will be cooking a wonderful dinner. \nJoin us for dinner every Tuesday at 6:30 PM.
URL:https://hillcitylodge.org/event/dinner/
LOCATION:Hill City Lodge\, 1711 Lavaca\, Austin\, TX\, 78701\, United States
END:VEVENT
BEGIN:VEVENT
DTSTART;TZID=America/Chicago:20221129T193000
DTEND;TZID=America/Chicago:20221129T203000
DTSTAMP:20260425T052808
CREATED:20221121T164744Z
LAST-MODIFIED:20221121T165428Z
UID:1682-1669750200-1669753800@hillcitylodge.org
SUMMARY:Fellowcraft turn-in
DESCRIPTION:Join us for a Fellowcraft turn in and called meeting at Hill City Lodge. \n5:30 p.m. – Ritual/C-certificate practice\n6:30 p.m. – Dinner (family\, friends\, & public welcome)\n7:30 p.m. – Called Meeting
URL:https://hillcitylodge.org/event/fellowcraft-turn-in/
LOCATION:Hill City Lodge\, 1711 Lavaca\, Austin\, TX\, 78701\, United States
END:VEVENT
BEGIN:VEVENT
DTSTART;TZID=America/Chicago:20221129T183000
DTEND;TZID=America/Chicago:20221129T193000
DTSTAMP:20260425T052808
CREATED:20221121T164415Z
LAST-MODIFIED:20221121T164415Z
UID:1678-1669746600-1669750200@hillcitylodge.org
SUMMARY:Dinner
DESCRIPTION:The  Stewards of Hill City Lodge #456 will be cooking a wonderful dinner. \nJoin us for dinner every Tuesday at 6:30 PM.
URL:https://hillcitylodge.org/event/dinner/
LOCATION:Hill City Lodge\, 1711 Lavaca\, Austin\, TX\, 78701\, United States
END:VEVENT
BEGIN:VEVENT
DTSTART;TZID=America/New_York:20221122T183000
DTEND;TZID=America/New_York:20221122T183000
DTSTAMP:20260425T052808
CREATED:20221104T202545Z
LAST-MODIFIED:20221104T202545Z
UID:1635-1669141800-1669141800@hillcitylodge.org
SUMMARY:Lodge is Dark - Feast of Sharing Volunteer Opportunity
DESCRIPTION:Lodge is Dark – Feast of Sharing Volunteer Opportunity
URL:https://hillcitylodge.org/event/dinner-2/
LOCATION:Hill City Lodge\, 1711 Lavaca\, Austin\, TX\, 78701\, United States
END:VEVENT
END:VCALENDAR