BEGIN:VCALENDAR
VERSION:2.0
PRODID:-//Hill City Masonic Lodge #456, A.F. &amp; A.M. - ECPv6.15.20//NONSGML v1.0//EN
CALSCALE:GREGORIAN
METHOD:PUBLISH
X-ORIGINAL-URL:https://hillcitylodge.org
X-WR-CALDESC:Events for Hill City Masonic Lodge #456, A.F. &amp; A.M.
REFRESH-INTERVAL;VALUE=DURATION:PT1H
X-Robots-Tag:noindex
X-PUBLISHED-TTL:PT1H
BEGIN:VTIMEZONE
TZID:America/Chicago
BEGIN:DAYLIGHT
TZOFFSETFROM:-0600
TZOFFSETTO:-0500
TZNAME:CDT
DTSTART:20220313T080000
END:DAYLIGHT
BEGIN:STANDARD
TZOFFSETFROM:-0500
TZOFFSETTO:-0600
TZNAME:CST
DTSTART:20221106T070000
END:STANDARD
BEGIN:DAYLIGHT
TZOFFSETFROM:-0600
TZOFFSETTO:-0500
TZNAME:CDT
DTSTART:20230312T080000
END:DAYLIGHT
BEGIN:STANDARD
TZOFFSETFROM:-0500
TZOFFSETTO:-0600
TZNAME:CST
DTSTART:20231105T070000
END:STANDARD
BEGIN:DAYLIGHT
TZOFFSETFROM:-0600
TZOFFSETTO:-0500
TZNAME:CDT
DTSTART:20240310T080000
END:DAYLIGHT
BEGIN:STANDARD
TZOFFSETFROM:-0500
TZOFFSETTO:-0600
TZNAME:CST
DTSTART:20241103T070000
END:STANDARD
BEGIN:DAYLIGHT
TZOFFSETFROM:-0600
TZOFFSETTO:-0500
TZNAME:CDT
DTSTART:20250309T080000
END:DAYLIGHT
BEGIN:STANDARD
TZOFFSETFROM:-0500
TZOFFSETTO:-0600
TZNAME:CST
DTSTART:20251102T070000
END:STANDARD
BEGIN:DAYLIGHT
TZOFFSETFROM:-0600
TZOFFSETTO:-0500
TZNAME:CDT
DTSTART:20260308T080000
END:DAYLIGHT
BEGIN:STANDARD
TZOFFSETFROM:-0500
TZOFFSETTO:-0600
TZNAME:CST
DTSTART:20261101T070000
END:STANDARD
BEGIN:DAYLIGHT
TZOFFSETFROM:-0600
TZOFFSETTO:-0500
TZNAME:CDT
DTSTART:20270314T080000
END:DAYLIGHT
BEGIN:STANDARD
TZOFFSETFROM:-0500
TZOFFSETTO:-0600
TZNAME:CST
DTSTART:20271107T070000
END:STANDARD
END:VTIMEZONE
BEGIN:VEVENT
DTSTART;TZID=America/Chicago:20260127T183000
DTEND;TZID=America/Chicago:20260127T203000
DTSTAMP:20260423T184444
CREATED:20260112T213613Z
LAST-MODIFIED:20260112T213613Z
UID:2366-1769538600-1769545800@hillcitylodge.org
SUMMARY:EA Degree Practice
DESCRIPTION:5:30 p.m. – Ritual/C-certificate practice\n6:30 p.m. – Dinner (family\, friends\, & public welcome)\n7:30 p.m. – Called Meeting – EA degree practice
URL:https://hillcitylodge.org/event/ea-degree-practice-2/
LOCATION:Hill City Lodge\, 1711 Lavaca\, Austin\, TX\, 78701\, United States
END:VEVENT
BEGIN:VEVENT
DTSTART;TZID=America/Chicago:20260203T183000
DTEND;TZID=America/Chicago:20260203T203000
DTSTAMP:20260423T184444
CREATED:20260112T213704Z
LAST-MODIFIED:20260112T213704Z
UID:2369-1770143400-1770150600@hillcitylodge.org
SUMMARY:Stated Meeting
DESCRIPTION:5:30 p.m. – Ritual/C-certificate practice\n6:30 p.m. – Dinner (family\, friends\, & public welcome)\n7:30 p.m. – Stated Meeting
URL:https://hillcitylodge.org/event/stated-meeting-27/
LOCATION:Hill City Lodge\, 1711 Lavaca\, Austin\, TX\, 78701\, United States
END:VEVENT
BEGIN:VEVENT
DTSTART;TZID=America/Chicago:20230801T193000
DTEND;TZID=America/Chicago:20230801T203000
DTSTAMP:20260423T184444
CREATED:20230615T124027Z
LAST-MODIFIED:20230615T124300Z
UID:1831-1690918200-1690921800@hillcitylodge.org
SUMMARY:Stated Meeting
DESCRIPTION:Please join us for the Stated Meeting of Hill City Lodge\, the first Tuesday of each month. \n5:30 p.m. – Ritual/C-certificate practice\n6:30 p.m. – Dinner (family\, friends\, & public welcome)\n7:30 p.m. – Stated meeting
URL:https://hillcitylodge.org/event/stated-meeting-5-2/
LOCATION:Hill City Lodge\, 1711 Lavaca\, Austin\, TX\, 78701\, United States
END:VEVENT
BEGIN:VEVENT
DTSTART;TZID=America/Chicago:20260217T183000
DTEND;TZID=America/Chicago:20260217T203000
DTSTAMP:20260423T184444
CREATED:20260217T131340Z
LAST-MODIFIED:20260217T131340Z
UID:2377-1771353000-1771360200@hillcitylodge.org
SUMMARY:Sweethearts Family Dinner
DESCRIPTION:5:30 p.m. – Ritual/C-certificate practice\n6:30 p.m. – Sweethearts Dinner (family\, friends\, & public welcome)\n7:30 p.m. – Called Meeting – 50 year service awards
URL:https://hillcitylodge.org/event/sweethearts-family-dinner/
LOCATION:Hill City Lodge\, 1711 Lavaca\, Austin\, TX\, 78701\, United States
END:VEVENT
BEGIN:VEVENT
DTSTART;TZID=America/Chicago:20260224T183000
DTEND;TZID=America/Chicago:20260224T203000
DTSTAMP:20260423T184444
CREATED:20260217T131445Z
LAST-MODIFIED:20260220T232041Z
UID:2380-1771957800-1771965000@hillcitylodge.org
SUMMARY:MWSA Meeting
DESCRIPTION:5:30 p.m. – Ritual/C-certificate practice\n6:30 p.m. – Dinner (family\, friends\, & public welcome)\n7:30 p.m. – Called Meeting – MWSA Meeting \n\n\n\n\n\n\n\n\n\n\n\n 
URL:https://hillcitylodge.org/event/ea-degree-practice-3/
LOCATION:Hill City Lodge\, 1711 Lavaca\, Austin\, TX\, 78701\, United States
END:VEVENT
BEGIN:VEVENT
DTSTART;TZID=America/Chicago:20260303T183000
DTEND;TZID=America/Chicago:20260303T203000
DTSTAMP:20260423T184444
CREATED:20260217T131525Z
LAST-MODIFIED:20260217T131525Z
UID:2383-1772562600-1772569800@hillcitylodge.org
SUMMARY:Stated Meeting
DESCRIPTION:5:30 p.m. – Ritual/C-certificate practice\n6:30 p.m. – Dinner (family\, friends\, & public welcome)\n7:30 p.m. – Stated Meeting
URL:https://hillcitylodge.org/event/stated-meeting-28/
LOCATION:Hill City Lodge\, 1711 Lavaca\, Austin\, TX\, 78701\, United States
END:VEVENT
BEGIN:VEVENT
DTSTART;TZID=America/Chicago:20230801T193000
DTEND;TZID=America/Chicago:20230801T203000
DTSTAMP:20260423T184444
CREATED:20230615T124027Z
LAST-MODIFIED:20230615T124300Z
UID:1831-1690918200-1690921800@hillcitylodge.org
SUMMARY:Stated Meeting
DESCRIPTION:Please join us for the Stated Meeting of Hill City Lodge\, the first Tuesday of each month. \n5:30 p.m. – Ritual/C-certificate practice\n6:30 p.m. – Dinner (family\, friends\, & public welcome)\n7:30 p.m. – Stated meeting
URL:https://hillcitylodge.org/event/stated-meeting-5-2/
LOCATION:Hill City Lodge\, 1711 Lavaca\, Austin\, TX\, 78701\, United States
END:VEVENT
BEGIN:VEVENT
DTSTART;TZID=America/Chicago:20260310T183000
DTEND;TZID=America/Chicago:20260310T210000
DTSTAMP:20260423T184444
CREATED:20260310T201749Z
LAST-MODIFIED:20260310T201749Z
UID:2396-1773167400-1773176400@hillcitylodge.org
SUMMARY:Esoteric work night
DESCRIPTION:Tuesday evening  March 10 at Lodge will be an EA esoteric training night and Reception of a Grand Lodge officer training.\nPrior to dinner at 5:30 pm. There will be a Past Masters meeting in the Fellowship Hall. The 150th Planning Committee will be attending as well.\nDinner is at 6:30pm.
URL:https://hillcitylodge.org/event/esoteric-work-night-9/
LOCATION:Hill City Lodge\, 1711 Lavaca\, Austin\, TX\, 78701\, United States
END:VEVENT
BEGIN:VEVENT
DTSTART;TZID=America/Chicago:20260317T173000
DTEND;TZID=America/Chicago:20260317T200000
DTSTAMP:20260423T184444
CREATED:20260310T201851Z
LAST-MODIFIED:20260310T201851Z
UID:2399-1773768600-1773777600@hillcitylodge.org
SUMMARY:EA Practice Night
DESCRIPTION:5:30 p.m. – Ritual/C-certificate practice\n6:30 p.m. – Dinner (family\, friends\, & public welcome)\n7:30 p.m. – Called Meeting – EA Practice Night
URL:https://hillcitylodge.org/event/ea-practice-night/
LOCATION:Hill City Lodge\, 1711 Lavaca\, Austin\, TX\, 78701\, United States
END:VEVENT
BEGIN:VEVENT
DTSTART;TZID=America/Chicago:20260324T183000
DTEND;TZID=America/Chicago:20260324T203000
DTSTAMP:20260423T184444
CREATED:20260310T201927Z
LAST-MODIFIED:20260310T201927Z
UID:2402-1774377000-1774384200@hillcitylodge.org
SUMMARY:EA Degree
DESCRIPTION:5:30 p.m. – Ritual/C-certificate practice\n6:30 p.m. – Dinner (family\, friends\, & public welcome)\n7:30 p.m. – Called Meeting – EA Degree
URL:https://hillcitylodge.org/event/ea-degree-2/
LOCATION:Hill City Lodge\, 1711 Lavaca\, Austin\, TX\, 78701\, United States
END:VEVENT
BEGIN:VEVENT
DTSTART;TZID=America/Chicago:20260331T183000
DTEND;TZID=America/Chicago:20260331T203000
DTSTAMP:20260423T184444
CREATED:20260310T202007Z
LAST-MODIFIED:20260310T202007Z
UID:2405-1774981800-1774989000@hillcitylodge.org
SUMMARY:EA Education Event
DESCRIPTION:5:30 p.m. – Ritual/C-certificate practice\n6:30 p.m. – Dinner (family\, friends\, & public welcome)\n7:30 p.m. – Called Meeting – EA Educational Night
URL:https://hillcitylodge.org/event/ea-education-event/
LOCATION:Hill City Lodge\, 1711 Lavaca\, Austin\, TX\, 78701\, United States
END:VEVENT
BEGIN:VEVENT
DTSTART;TZID=America/Chicago:20260407T183000
DTEND;TZID=America/Chicago:20260407T200000
DTSTAMP:20260423T184444
CREATED:20260310T202108Z
LAST-MODIFIED:20260310T202108Z
UID:2408-1775586600-1775592000@hillcitylodge.org
SUMMARY:Stated Meeting
DESCRIPTION:5:30 p.m. – Ritual/C-certificate practice\n6:30 p.m. – Dinner (family\, friends\, & public welcome)\n7:30 p.m. – Stated Meeting \n\n\n\n\n\n\n\n\n\n\n\n 
URL:https://hillcitylodge.org/event/stated-meeting-29/
LOCATION:Hill City Lodge\, 1711 Lavaca\, Austin\, TX\, 78701\, United States
END:VEVENT
BEGIN:VEVENT
DTSTART;TZID=America/Chicago:20230801T193000
DTEND;TZID=America/Chicago:20230801T203000
DTSTAMP:20260423T184444
CREATED:20230615T124027Z
LAST-MODIFIED:20230615T124300Z
UID:1831-1690918200-1690921800@hillcitylodge.org
SUMMARY:Stated Meeting
DESCRIPTION:Please join us for the Stated Meeting of Hill City Lodge\, the first Tuesday of each month. \n5:30 p.m. – Ritual/C-certificate practice\n6:30 p.m. – Dinner (family\, friends\, & public welcome)\n7:30 p.m. – Stated meeting
URL:https://hillcitylodge.org/event/stated-meeting-5-2/
LOCATION:Hill City Lodge\, 1711 Lavaca\, Austin\, TX\, 78701\, United States
END:VEVENT
BEGIN:VEVENT
DTSTART;TZID=America/Chicago:20260414T183000
DTEND;TZID=America/Chicago:20260414T203000
DTSTAMP:20260423T184444
CREATED:20260413T231051Z
LAST-MODIFIED:20260413T231051Z
UID:2414-1776191400-1776198600@hillcitylodge.org
SUMMARY:EA Degree
DESCRIPTION:5:30 p.m. – Ritual/C-certificate practice\n6:30 p.m. – Dinner (family\, friends\, & public welcome)\n7:30 p.m. – Called Meeting – EA Degree
URL:https://hillcitylodge.org/event/ea-degree-3/
LOCATION:Hill City Lodge\, 1711 Lavaca\, Austin\, TX\, 78701\, United States
END:VEVENT
BEGIN:VEVENT
DTSTART;TZID=America/Chicago:20260421T183000
DTEND;TZID=America/Chicago:20260421T203000
DTSTAMP:20260423T184444
CREATED:20260413T231152Z
LAST-MODIFIED:20260413T231152Z
UID:2417-1776796200-1776803400@hillcitylodge.org
SUMMARY:FC Practice
DESCRIPTION:5:30 p.m. – Ritual/C-certificate practice\n6:30 p.m. – Dinner (family\, friends\, & public welcome)\n7:30 p.m. – Called Meeting – FC Practice
URL:https://hillcitylodge.org/event/fc-practice/
LOCATION:Hill City Lodge\, 1711 Lavaca\, Austin\, TX\, 78701\, United States
END:VEVENT
BEGIN:VEVENT
DTSTART;TZID=America/Chicago:20260428T183000
DTEND;TZID=America/Chicago:20260428T210000
DTSTAMP:20260423T184444
CREATED:20260413T231300Z
LAST-MODIFIED:20260413T231300Z
UID:2420-1777401000-1777410000@hillcitylodge.org
SUMMARY:Open meeting - Lodge Scholarship Night
DESCRIPTION:5:30 p.m. – Ritual/C-certificate practice\n6:30 p.m. – Dinner (family\, friends\, & public welcome)\n7:30 p.m. – Open Meeting – Lodge Scholarship Night
URL:https://hillcitylodge.org/event/open-meeting-lodge-scholarship-night/
LOCATION:Hill City Lodge\, 1711 Lavaca\, Austin\, TX\, 78701\, United States
END:VEVENT
BEGIN:VEVENT
DTSTART;TZID=America/Chicago:20260505T183000
DTEND;TZID=America/Chicago:20260505T203000
DTSTAMP:20260423T184444
CREATED:20260413T231005Z
LAST-MODIFIED:20260413T231005Z
UID:2411-1778005800-1778013000@hillcitylodge.org
SUMMARY:Stated Meeting
DESCRIPTION:5:30 p.m. – Ritual/C-certificate practice\n6:30 p.m. – Dinner (family\, friends\, & public welcome)\n7:30 p.m. – Stated Meeting
URL:https://hillcitylodge.org/event/stated-meeting-30/
LOCATION:Hill City Lodge\, 1711 Lavaca\, Austin\, TX\, 78701\, United States
END:VEVENT
BEGIN:VEVENT
DTSTART;TZID=America/Chicago:20230801T193000
DTEND;TZID=America/Chicago:20230801T203000
DTSTAMP:20260423T184444
CREATED:20230615T124027Z
LAST-MODIFIED:20230615T124300Z
UID:1831-1690918200-1690921800@hillcitylodge.org
SUMMARY:Stated Meeting
DESCRIPTION:Please join us for the Stated Meeting of Hill City Lodge\, the first Tuesday of each month. \n5:30 p.m. – Ritual/C-certificate practice\n6:30 p.m. – Dinner (family\, friends\, & public welcome)\n7:30 p.m. – Stated meeting
URL:https://hillcitylodge.org/event/stated-meeting-5-2/
LOCATION:Hill City Lodge\, 1711 Lavaca\, Austin\, TX\, 78701\, United States
END:VEVENT
BEGIN:VEVENT
DTSTART;TZID=America/Chicago:20230801T193000
DTEND;TZID=America/Chicago:20230801T203000
DTSTAMP:20260423T184444
CREATED:20230615T124027Z
LAST-MODIFIED:20230615T124300Z
UID:1831-1690918200-1690921800@hillcitylodge.org
SUMMARY:Stated Meeting
DESCRIPTION:Please join us for the Stated Meeting of Hill City Lodge\, the first Tuesday of each month. \n5:30 p.m. – Ritual/C-certificate practice\n6:30 p.m. – Dinner (family\, friends\, & public welcome)\n7:30 p.m. – Stated meeting
URL:https://hillcitylodge.org/event/stated-meeting-5-2/
LOCATION:Hill City Lodge\, 1711 Lavaca\, Austin\, TX\, 78701\, United States
END:VEVENT
BEGIN:VEVENT
DTSTART;TZID=America/Chicago:20230801T193000
DTEND;TZID=America/Chicago:20230801T203000
DTSTAMP:20260423T184444
CREATED:20230615T124027Z
LAST-MODIFIED:20230615T124300Z
UID:1831-1690918200-1690921800@hillcitylodge.org
SUMMARY:Stated Meeting
DESCRIPTION:Please join us for the Stated Meeting of Hill City Lodge\, the first Tuesday of each month. \n5:30 p.m. – Ritual/C-certificate practice\n6:30 p.m. – Dinner (family\, friends\, & public welcome)\n7:30 p.m. – Stated meeting
URL:https://hillcitylodge.org/event/stated-meeting-5-2/
LOCATION:Hill City Lodge\, 1711 Lavaca\, Austin\, TX\, 78701\, United States
END:VEVENT
BEGIN:VEVENT
DTSTART;TZID=America/Chicago:20230801T193000
DTEND;TZID=America/Chicago:20230801T203000
DTSTAMP:20260423T184444
CREATED:20230615T124027Z
LAST-MODIFIED:20230615T124300Z
UID:1831-1690918200-1690921800@hillcitylodge.org
SUMMARY:Stated Meeting
DESCRIPTION:Please join us for the Stated Meeting of Hill City Lodge\, the first Tuesday of each month. \n5:30 p.m. – Ritual/C-certificate practice\n6:30 p.m. – Dinner (family\, friends\, & public welcome)\n7:30 p.m. – Stated meeting
URL:https://hillcitylodge.org/event/stated-meeting-5-2/
LOCATION:Hill City Lodge\, 1711 Lavaca\, Austin\, TX\, 78701\, United States
END:VEVENT
BEGIN:VEVENT
DTSTART;TZID=America/Chicago:20230801T193000
DTEND;TZID=America/Chicago:20230801T203000
DTSTAMP:20260423T184444
CREATED:20230615T124027Z
LAST-MODIFIED:20230615T124300Z
UID:1831-1690918200-1690921800@hillcitylodge.org
SUMMARY:Stated Meeting
DESCRIPTION:Please join us for the Stated Meeting of Hill City Lodge\, the first Tuesday of each month. \n5:30 p.m. – Ritual/C-certificate practice\n6:30 p.m. – Dinner (family\, friends\, & public welcome)\n7:30 p.m. – Stated meeting
URL:https://hillcitylodge.org/event/stated-meeting-5-2/
LOCATION:Hill City Lodge\, 1711 Lavaca\, Austin\, TX\, 78701\, United States
END:VEVENT
BEGIN:VEVENT
DTSTART;TZID=America/Chicago:20230801T193000
DTEND;TZID=America/Chicago:20230801T203000
DTSTAMP:20260423T184444
CREATED:20230615T124027Z
LAST-MODIFIED:20230615T124300Z
UID:1831-1690918200-1690921800@hillcitylodge.org
SUMMARY:Stated Meeting
DESCRIPTION:Please join us for the Stated Meeting of Hill City Lodge\, the first Tuesday of each month. \n5:30 p.m. – Ritual/C-certificate practice\n6:30 p.m. – Dinner (family\, friends\, & public welcome)\n7:30 p.m. – Stated meeting
URL:https://hillcitylodge.org/event/stated-meeting-5-2/
LOCATION:Hill City Lodge\, 1711 Lavaca\, Austin\, TX\, 78701\, United States
END:VEVENT
BEGIN:VEVENT
DTSTART;TZID=America/Chicago:20230801T193000
DTEND;TZID=America/Chicago:20230801T203000
DTSTAMP:20260423T184444
CREATED:20230615T124027Z
LAST-MODIFIED:20230615T124300Z
UID:1831-1690918200-1690921800@hillcitylodge.org
SUMMARY:Stated Meeting
DESCRIPTION:Please join us for the Stated Meeting of Hill City Lodge\, the first Tuesday of each month. \n5:30 p.m. – Ritual/C-certificate practice\n6:30 p.m. – Dinner (family\, friends\, & public welcome)\n7:30 p.m. – Stated meeting
URL:https://hillcitylodge.org/event/stated-meeting-5-2/
LOCATION:Hill City Lodge\, 1711 Lavaca\, Austin\, TX\, 78701\, United States
END:VEVENT
BEGIN:VEVENT
DTSTART;TZID=America/Chicago:20230801T193000
DTEND;TZID=America/Chicago:20230801T203000
DTSTAMP:20260423T184444
CREATED:20230615T124027Z
LAST-MODIFIED:20230615T124300Z
UID:1831-1690918200-1690921800@hillcitylodge.org
SUMMARY:Stated Meeting
DESCRIPTION:Please join us for the Stated Meeting of Hill City Lodge\, the first Tuesday of each month. \n5:30 p.m. – Ritual/C-certificate practice\n6:30 p.m. – Dinner (family\, friends\, & public welcome)\n7:30 p.m. – Stated meeting
URL:https://hillcitylodge.org/event/stated-meeting-5-2/
LOCATION:Hill City Lodge\, 1711 Lavaca\, Austin\, TX\, 78701\, United States
END:VEVENT
BEGIN:VEVENT
DTSTART;TZID=America/Chicago:20230801T193000
DTEND;TZID=America/Chicago:20230801T203000
DTSTAMP:20260423T184444
CREATED:20230615T124027Z
LAST-MODIFIED:20230615T124300Z
UID:1831-1690918200-1690921800@hillcitylodge.org
SUMMARY:Stated Meeting
DESCRIPTION:Please join us for the Stated Meeting of Hill City Lodge\, the first Tuesday of each month. \n5:30 p.m. – Ritual/C-certificate practice\n6:30 p.m. – Dinner (family\, friends\, & public welcome)\n7:30 p.m. – Stated meeting
URL:https://hillcitylodge.org/event/stated-meeting-5-2/
LOCATION:Hill City Lodge\, 1711 Lavaca\, Austin\, TX\, 78701\, United States
END:VEVENT
BEGIN:VEVENT
DTSTART;TZID=America/Chicago:20230801T193000
DTEND;TZID=America/Chicago:20230801T203000
DTSTAMP:20260423T184444
CREATED:20230615T124027Z
LAST-MODIFIED:20230615T124300Z
UID:1831-1690918200-1690921800@hillcitylodge.org
SUMMARY:Stated Meeting
DESCRIPTION:Please join us for the Stated Meeting of Hill City Lodge\, the first Tuesday of each month. \n5:30 p.m. – Ritual/C-certificate practice\n6:30 p.m. – Dinner (family\, friends\, & public welcome)\n7:30 p.m. – Stated meeting
URL:https://hillcitylodge.org/event/stated-meeting-5-2/
LOCATION:Hill City Lodge\, 1711 Lavaca\, Austin\, TX\, 78701\, United States
END:VEVENT
BEGIN:VEVENT
DTSTART;TZID=America/Chicago:20230801T193000
DTEND;TZID=America/Chicago:20230801T203000
DTSTAMP:20260423T184444
CREATED:20230615T124027Z
LAST-MODIFIED:20230615T124300Z
UID:1831-1690918200-1690921800@hillcitylodge.org
SUMMARY:Stated Meeting
DESCRIPTION:Please join us for the Stated Meeting of Hill City Lodge\, the first Tuesday of each month. \n5:30 p.m. – Ritual/C-certificate practice\n6:30 p.m. – Dinner (family\, friends\, & public welcome)\n7:30 p.m. – Stated meeting
URL:https://hillcitylodge.org/event/stated-meeting-5-2/
LOCATION:Hill City Lodge\, 1711 Lavaca\, Austin\, TX\, 78701\, United States
END:VEVENT
BEGIN:VEVENT
DTSTART;TZID=America/Chicago:20230801T193000
DTEND;TZID=America/Chicago:20230801T203000
DTSTAMP:20260423T184444
CREATED:20230615T124027Z
LAST-MODIFIED:20230615T124300Z
UID:1831-1690918200-1690921800@hillcitylodge.org
SUMMARY:Stated Meeting
DESCRIPTION:Please join us for the Stated Meeting of Hill City Lodge\, the first Tuesday of each month. \n5:30 p.m. – Ritual/C-certificate practice\n6:30 p.m. – Dinner (family\, friends\, & public welcome)\n7:30 p.m. – Stated meeting
URL:https://hillcitylodge.org/event/stated-meeting-5-2/
LOCATION:Hill City Lodge\, 1711 Lavaca\, Austin\, TX\, 78701\, United States
END:VEVENT
BEGIN:VEVENT
DTSTART;TZID=America/Chicago:20230801T193000
DTEND;TZID=America/Chicago:20230801T203000
DTSTAMP:20260423T184444
CREATED:20230615T124027Z
LAST-MODIFIED:20230615T124300Z
UID:1831-1690918200-1690921800@hillcitylodge.org
SUMMARY:Stated Meeting
DESCRIPTION:Please join us for the Stated Meeting of Hill City Lodge\, the first Tuesday of each month. \n5:30 p.m. – Ritual/C-certificate practice\n6:30 p.m. – Dinner (family\, friends\, & public welcome)\n7:30 p.m. – Stated meeting
URL:https://hillcitylodge.org/event/stated-meeting-5-2/
LOCATION:Hill City Lodge\, 1711 Lavaca\, Austin\, TX\, 78701\, United States
END:VEVENT
END:VCALENDAR